Workbook

Sheet 工作表1
A1: 計畫編號 | B1: 年度 | C1: 學年度 | D1: 學院 | E1: 系科別 | F1: 主持人 | G1: 共(協)同主持人 | H1: 類別 | I1: 委託單位 | J1: 計畫名稱 | K1: 廠商 補助款 | L1: 總經費 | M1: 開始日期 | N1: 結束日期 | O1: F-企業 H-其他 | P1: 計畫性質 | Q1: 預計培育人數 | R1: 培育 學生學號 | S1: 培育 學生姓名 | T1: 培育 學生科系 | U1: 培育 學生班級
A2: 範例: HK111-055 | B2: 112 | C2: 111 | D2: ○○○○學院 | E2: ○○系 | F2: ○○○ | H2: 產學合作研究計畫 | I2: ○○○○○公司 | J2: ○○○○○ | K2: 30000 | L2: 30000 | M2: 112/01/01 | N2: 112/12/31 | O2: F-企業 | P2: A1,B1 | Q2: 3 | R2: U1111111 U1111112 U1121110 | S2: 林筱涵 張君雅 陳怡君 | T2: 護理系 護理系 護理系 | U2: 二年甲班 二年甲班 一年甲班
A3: 範例: HK111-056 | B3: 112 | C3: 111 | D3: ○○○○學院 | E3: ○○系 | F3: ○○○ | H3: 產學合作研究計畫 | I3: ○○○○○公司 | J3: ○○○○○ | K3: 30000 | L3: 30000 | M3: 112/01/02 | N3: 112/12/32 | O3: F-企業 | P3: A1,B2 | Q3: 30 | R3: 名冊如附件1
A4: HK111-077 | B4: 112 | C4: 111 | D4: 民生創新學院 | E4: 食科系 | F4: 林麗雲 | G4: 黃汶達 王俊勝 | H4: 產學合作研究計畫 | I4: 美食達人股份有限公司 | J4: 烘焙廠區與產品衛生監控及員工衛生教育 | K4: 500000 | L4: 500000 | M4: 112/01/01 | N4: 112/12/31 | O4: F-企業 | P4: A3,A4,A5,B1 | Q4: =VLOOKUP(A:A,[1]產學計畫建檔!$A:$R,18) -> 5
A5: HK111-082 | B5: 112 | C5: 111 | D5: 護理學院 | E5: 護理系 | F5: 江采宜 | G5: 王香蘋 | H5: 產學合作研究計畫 | I5: 大漢酵素生物科技股份有限公司 | J5: 蔬果植物發酵液對於代謝症候群之成效 | K5: 300000 | L5: 300000 | M5: 112/01/01 | N5: 112/12/31 | O5: F-企業 | P5: A1 | Q5: =VLOOKUP(A:A,[1]產學計畫建檔!$A:$R,18) -> 1
A6: HK111-094 | B6: 112 | C6: 111 | D6: 民生創新學院 | E6: 食科系 | F6: 黃至盛 | G6: 柯耀筆 陳俊曄 | H6: 產學合作研究計畫 | I6: 萬味軒食品工業股份有限公司 | J6: 製程改善與分析之研究 | K6: 250000 | L6: 250000 | M6: 112/01/01 | N6: 113/05/31 | O6: F-企業 | P6: A3,B6 | Q6: =VLOOKUP(A:A,[1]產學計畫建檔!$A:$R,18) -> 2
A7: HK111-095 | B7: 112 | C7: 111 | D7: 民生創新學院 | E7: 英語系 | F7: 蔡智欣 | G7: 鄭景媚 陳美伶 | H7: 產學合作研究計畫 | I7: 臺中市私立文詣文理短期補習班 | J7: 英語教學產業人才培訓產學合作計畫(十一) | K7: 130570 | L7: 130570 | M7: 112/01/01 | N7: 112/06/30 | O7: H-其他 | P7: B1 | Q7: =VLOOKUP(A:A,[1]產學計畫建檔!$A:$R,18) -> 1
A8: HK111-096 | B8: 112 | C8: 111 | D8: 民生創新學院 | E8: 妝品系 | F8: 許慈芳 | H8: 產學合作研究計畫 | I8: 沂水創意行銷顧問有限公司 | J8: 資生堂紅妍股活系列功效評估計畫 | K8: 230000 | L8: 230000 | M8: 112/01/01 | N8: 112/08/30 | O8: F-企業 | P8: A3 | Q8: =VLOOKUP(A:A,[1]產學計畫建檔!$A:$R,18) -> 2
A9: HK111-097 | B9: 112 | C9: 111 | D9: 民生創新學院 | E9: 食科系 | F9: 林麗雲 | G9: 莊正宏 | H9: 產學合作研究計畫 | I9: 侑芳食品廠 | J9: 餐盒營養調配與衛生管理 | K9: 100000 | L9: 100000 | M9: 112/01/01 | N9: 112/12/31 | O9: F-企業 | P9: A1,A3,A4 | Q9: =VLOOKUP(A:A,[1]產學計畫建檔!$A:$R,18) -> 3
A10: HK111-098 | B10: 112 | C10: 111 | D10: 護理學院 | E10: 護理系 | F10: 譚蓉瑩 | G10: 雷若莉 | H10: 產學合作研究計畫 | I10: 中華高齡專業照護訓練協會 | J10: 高齡照護人才培育精進計畫 | K10: 330000 | L10: 330000 | M10: 112/01/01 | N10: 114/12/31 | O10: H-其他 | P10: B1 | Q10: =VLOOKUP(A:A,[1]產學計畫建檔!$A:$R,18) -> 無
A11: HK111-099 | B11: 112 | C11: 111 | D11: 智慧科技學院 | E11: 醫工系 | F11: 常閎智 | H11: 產學合作研究計畫 | I11: 台灣塑膠工業股份有限公司 | J11: 扶持精準健康福祉產業發展-以匹克球拍的設計開發之運動生物力學分析 | K11: 660000 | L11: 660000 | M11: 112/01/01 | N11: 112/09/30 | O11: F-企業 | P11: A1,B1,C | Q11: =VLOOKUP(A:A,[1]產學計畫建檔!$A:$R,18) -> 無
A12: HK111-100 | B12: 112 | C12: 111 | D12: 民生創新學院 | E12: 運休系 | F12: 劉進枰 | G12: 張嚴仁 蘇信坤 | H12: 產學合作研究計畫 | I12: 臺中市私立精學門文理短期補習班 | J12: 2023年精學門兒童冬季運動育樂營 | K12: 51000 | L12: 51000 | M12: 112/02/01 | N12: 112/03/18 | O12: H-其他 | P12: A4,A5 | Q12: =VLOOKUP(A:A,[1]產學計畫建檔!$A:$R,18) -> 2
A13: HK111-101 | B13: 112 | C13: 111 | D13: 智慧科技學院 | E13: 環安系 | F13: 范煥榮 | H13: 產學合作研究計畫 | I13: 勤毅工程顧問有限公司 | J13: 彰化縣福興地區區域性垃圾聯合處理場整理工程之垃圾採樣分析 | K13: 120000 | L13: 120000 | M13: 112/01/16 | N13: 112/12/31 | O13: F-企業 | P13: A4 | Q13: =VLOOKUP(A:A,[1]產學計畫建檔!$A:$R,18) -> 無
A14: HK111-102 | B14: 112 | C14: 111 | D14: 民生創新學院 | E14: 食科系 | F14: 陳玉舜 | G14: 陳俊曄 楊齊生 謝東呈 | H14: 產學合作研究計畫 | I14: 佳聯生醫科技有限公司 | J14: 藥食同源之真菌多醣體保健產品研究及應用於提升免疫功能及抗過敏之機能性食品開發 | K14: 1000000 | L14: 1000000 | M14: 112/02/01 | N14: 114/12/31 | O14: F-企業 | P14: A4,B4 | Q14: =VLOOKUP(A:A,[1]產學計畫建檔!$A:$R,18) -> 無
A15: HK111-103 | B15: 112 | C15: 111 | D15: 民生創新學院 | E15: 餐旅系 | F15: 沈盈貝 | H15: 產學合作研究計畫 | I15: 台灣亞洲葡萄酒學會 | J15: 初階侍酒師證照培訓計畫 | K15: 75000 | L15: 75000 | M15: 112/01/01 | N15: 112/12/31 | O15: H-其他 | P15: B1 | Q15: =VLOOKUP(A:A,[1]產學計畫建檔!$A:$R,18) -> 15
A16: HK111-104 | B16: 112 | C16: 111 | D16: 智慧科技學院 | E16: 環安系 | F16: 余森年 | G16: 陳佑全 | H16: 產學合作研究計畫 | I16: 力瑪科技股份有限公司 | J16: Cigs太陽光電模組發電效率量測 | K16: 60000 | L16: 60000 | M16: 112/02/10 | N16: 112/07/09 | O16: F-企業 | P16: A1 | Q16: =VLOOKUP(A:A,[1]產學計畫建檔!$A:$R,18) -> 1
A17: HK111-105 | B17: 112 | C17: 111 | D17: 智慧科技學院 | E17: 環安系 | F17: 范煥榮 | H17: 產學合作研究計畫 | I17: 上準環境科技股份有限公司 | J17: 工業廢棄物中化學與熱值特性分析計畫 | K17: 28500 | L17: 28500 | M17: 112/02/13 | N17: 112/03/31 | O17: F-企業 | P17: A3,A4 | Q17: =VLOOKUP(A:A,[1]產學計畫建檔!$A:$R,18) -> 無
A18: HK111-106 | B18: 112 | C18: 111 | D18: 民生創新學院 | E18: 食科系 | F18: 林麗雲 | H18: 產學合作研究計畫 | I18: 永信社會福利基金會松柏園養護中心 | J18: 廚房動線修改及HACCP驗證輔導計畫 | K18: 180000 | L18: 180000 | M18: 112/01/01 | N18: 112/12/31 | O18: H-其他 | P18: A5,A9 | Q18: =VLOOKUP(A:A,[1]產學計畫建檔!$A:$R,18) -> 2
A19: HK111-107 | B19: 112 | C19: 111 | D19: 護理學院 | E19: 護理系 | F19: 雷若莉 | H19: 產學合作研究計畫 | I19: Eastern Michigan University School of Nursing | J19: 長者智慧健康藝術照顧方案設計與發展 Design and Develop Art for Brian Health (ABH) Program for Seniors | K19: 487325 | L19: 487325 | M19: 112/01/01 | N19: 114/06/30 | O19: H-其他 | P19: A5,B5 | Q19: =VLOOKUP(A:A,[1]產學計畫建檔!$A:$R,18) -> 5
A20: HK111-108 | B20: 112 | C20: 111 | D20: 民生創新學院 | E20: 多遊系 | F20: 林子堯 | H20: 產學合作研究計畫 | I20: 彰化第五信用合作社 | J20: 彰化第五信用合作社攝影與社群行銷教育學程計畫 | K20: 90000 | L20: 90000 | M20: 112/02/01 | N20: 112/04/30 | O20: H-其他 | P20: B1 | Q20: =VLOOKUP(A:A,[1]產學計畫建檔!$A:$R,18) -> 4
A21: HK111-109 | B21: 112 | C21: 111 | D21: 民生創新學院 | E21: 食科系 | F21: 楊智偉 | G21: 呂淑芬、李菁菁 | H21: 產學合作研究計畫 | I21: 洽發企業股份有限公司 | J21: 2023烘焙知識傳遞與人才培育 | K21: 150000 | L21: 150000 | M21: 112/02/01 | N21: 112/12/31 | O21: F-企業 | P21: B1 | Q21: =VLOOKUP(A:A,[1]產學計畫建檔!$A:$R,18) -> 無
A22: HK111-111 | B22: 112 | C22: 111 | D22: 通識教育中心 | E22: 通識中心 | F22: 王曉芬 | G22: 易光輝 | H22: 產學合作研究計畫 | I22: 軒郁國際股份有限公司 | J22: FRSAB精油添加丹皮酚之抗氧化研究 | K22: 70400 | L22: 70400 | M22: 112/04/01 | N22: 113/03/31 | O22: F-企業 | P22: A1 | Q22: =VLOOKUP(A:A,[1]產學計畫建檔!$A:$R,18) -> 無
A23: HK111-112 | B23: 112 | C23: 111 | D23: 民生創新學院 | E23: 食科系 | F23: 林聖敦 | G23: 許珮綺 | H23: 產學合作研究計畫 | I23: 南投縣農會 | J23: 梅胚的應用開發 | K23: 300000 | L23: 300000 | M23: 112/03/01 | N23: 112/12/31 | O23: H-其他 | P23: A1,A4,B1 | Q23: =VLOOKUP(A:A,[1]產學計畫建檔!$A:$R,18) -> 2
A24: HK111-113 | B24: 112 | C24: 111 | D24: 智慧科技學院 | E24: 環安系 | F24: 溫志中 | H24: 產學合作研究計畫 | I24: 艾奕康工程顧問股份有限公司 | J24: Environmental Impact Assessment for VENA No.7 Offshore Wind Farm 海域水質模擬、地形變遷及基樁淘刷評估 | K24: 1800000 | L24: 1800000 | M24: 112/02/01 | N24: 114/06/30 | O24: F-企業 | P24: A4,A5,B3,B6,B6,C | Q24: =VLOOKUP(A:A,[1]產學計畫建檔!$A:$R,18) -> 無
A25: HK111-114 | B25: 112 | C25: 111 | D25: 智慧科技學院 | E25: 環安系 | F25: 范煥榮 | H25: 產學合作研究計畫 | I25: 上境科技股份有限公司 | J25: 112年彰化縣資源回收綜合管理計畫之垃圾採樣 | K25: 429000 | L25: 429000 | M25: 112/02/22 | N25: 113/12/31 | O25: F-企業 | P25: A4 | Q25: =VLOOKUP(A:A,[1]產學計畫建檔!$A:$R,18) -> 無
A26: HK111-115 | B26: 112 | C26: 111 | D26: 民生創新學院 | E26: 妝品系 | F26: 易光輝 | G26: 王曉芬 | H26: 產學合作研究計畫 | I26: 軒郁國際股份有限公司 | J26: 防曬精油組成物之瑞士日內瓦發明展競賽 | K26: 270593 | L26: 270593 | M26: 112/03/01 | N26: 113/02/28 | O26: F-企業 | P26: A1 | Q26: =VLOOKUP(A:A,[1]產學計畫建檔!$A:$R,18) -> 無
A27: HK111-116 | B27: 112 | C27: 111 | D27: 通識教育中心 | E27: 通識中心 | F27: 王曉芬 | G27: 易光輝 | H27: 產學合作研究計畫 | I27: 軒郁國際股份有限公司 | J27: 美白精油組成物之瑞士日內瓦發明展競賽 | K27: 270593 | L27: 270593 | M27: 112/03/01 | N27: 113/02/28 | O27: F-企業 | P27: A1 | Q27: =VLOOKUP(A:A,[1]產學計畫建檔!$A:$R,18) -> 無
A28: HK111-117 | B28: 112 | C28: 111 | D28: 民生創新學院 | E28: 食科系 | F28: 林聖敦 | G28: 許珮綺 | H28: 產學合作研究計畫 | I28: 禎祥食品工業股份有限公司(台灣)、禎宏泰食品股份有限公司(越南) | J28: 人才培育、新產品開發及產品品質改善 | K28: 750000 | L28: 750000 | M28: 112/03/01 | N28: 112/12/31 | O28: F-企業 | P28: A1,A4,B1 | Q28: =VLOOKUP(A:A,[1]產學計畫建檔!$A:$R,18) -> 1
A29: HK111-118 | B29: 112 | C29: 111 | D29: 民生創新學院 | E29: 餐旅系 | F29: 吳松濂 | G29: 許凱敦 | H29: 產學合作研究計畫 | I29: 社團法人台灣兒童食育協會 | J29: 以食傳愛-以味傳家 | K29: 100000 | L29: 100000 | M29: 112/02/01 | N29: 112/05/30 | O29: H-其他 | P29: A4 | Q29: =VLOOKUP(A:A,[1]產學計畫建檔!$A:$R,18) -> 12
A30: HK111-119 | B30: 112 | C30: 111 | D30: 民生創新學院 | E30: 食科系 | F30: 楊智偉 | G30: 呂淑芬、李菁菁 | H30: 產學合作研究計畫 | I30: 三能食品器具股份有限公司 | J30: 2023烘焙知識傳遞與人才培育 | K30: 50000 | L30: 50000 | M30: 112/02/01 | N30: 112/12/31 | O30: F-企業 | P30: B1 | Q30: =VLOOKUP(A:A,[1]產學計畫建檔!$A:$R,18) -> 無
A31: HK111-120 | B31: 112 | C31: 111 | D31: 智慧科技學院 | E31: 環安系 | F31: 黃文鑑 | H31: 產學合作研究計畫 | I31: 技迪科技股份有限公司 | J31: 水中硼、氟、顆粒物粒徑之檢測及方法驗證研究 | K31: 50000 | L31: 50000 | M31: 112/01/01 | N31: 113/07/31 | O31: F-企業 | P31: A4 | Q31: =VLOOKUP(A:A,[1]產學計畫建檔!$A:$R,18) -> 無
A32: HK111-121 | B32: 112 | C32: 111 | D32: 民生創新學院 | E32: 文創系 | F32: 涂卉 | H32: 產學合作研究計畫 | I32: 財團法人台中市私立康善社會福利慈善事業基金會 | J32: 112年度康善基金會早日康復補給站10週年活動與視覺設計案 | K32: 100000 | L32: 100000 | M32: 112/03/15 | N32: 112/12/31 | O32: H-其他 | P32: A4 | Q32: =VLOOKUP(A:A,[1]產學計畫建檔!$A:$R,18) -> 4
A33: HK111-122 | B33: 112 | C33: 111 | D33: 醫療健康學院 | E33: 營養系 | F33: 莊正宏 | G33: 黃進發 陳明仁 黃文盈 | H33: 產學合作研究計畫 | I33: 芫儂食品股份有限公司 | J33: 食品與食材危害因子分析與檢驗 | K33: 300000 | L33: 300000 | M33: 112/03/01 | N33: 114/08/31 | O33: F-企業 | P33: A3,A4 | Q33: =VLOOKUP(A:A,[1]產學計畫建檔!$A:$R,18) -> 無
A34: HK111-123 | B34: 112 | C34: 111 | D34: 民生創新學院 | E34: 妝品系 | F34: 歐明秋 | H34: 產學合作研究計畫 | I34: 麗多化粧品股份有限公司 | J34: 質感香水調製研習 | K34: 20000 | L34: 20000 | M34: 112/03/01 | N34: 112/05/31 | O34: F-企業 | P34: B2 | Q34: =VLOOKUP(A:A,[1]產學計畫建檔!$A:$R,18) -> 9
A35: HK111-124 | B35: 112 | C35: 111 | D35: 民生創新學院 | E35: 食科系 | F35: 羅婉瑜 | G35: 王曉芬 | H35: 產學合作研究計畫 | I35: 軒郁國際股份有限公司 | J35: 以初級成人表皮角質細胞(Human Epidermal Keratinocyte adult, HEKa)評估軒郁公司商品機能性成分對特定緊迫模型的保護作用 | K35: 700000 | L35: 700000 | M35: 112/04/01 | N35: 113/03/31 | O35: F-企業 | P35: A3,B1,C | Q35: =VLOOKUP(A:A,[1]產學計畫建檔!$A:$R,18) -> 2
A36: HK111-125 | B36: 112 | C36: 111 | D36: 民生創新學院 | E36: 食科系 | F36: 林麗雲 | H36: 產學合作研究計畫 | I36: 臺中市農業創生協會 | J36: 紅酒品質精進提升計畫 | K36: 60000 | L36: 60000 | M36: 112/03/01 | N36: 112/12/31 | O36: H-其他 | P36: A4,A5 | Q36: =VLOOKUP(A:A,[1]產學計畫建檔!$A:$R,18) -> 2
A37: HK111-126 | B37: 112 | C37: 111 | D37: 民生創新學院 | E37: 妝品系 | F37: 張聰民 | H37: 產學合作研究計畫 | I37: 艾萬霖生技股份有限公司 | J37: 初髮本液(ExoHair Essence)人體頭部保養功效評估計畫 | K37: 600000 | L37: 600000 | M37: 112/03/14 | N37: 112/08/31 | O37: F-企業 | P37: A3,B1 | Q37: =VLOOKUP(A:A,[1]產學計畫建檔!$A:$R,18) -> 無
A38: HK111-127 | B38: 112 | C38: 111 | D38: 民生創新學院 | E38: 食科系 | F38: 陳玉舜 | G38: 陳俊曄 | H38: 產學合作研究計畫 | I38: 融燁食品有限公司 | J38: 藥食同源牛樟芝及蟲草調理產品開發 | K38: 100000 | L38: 100000 | M38: 112/03/10 | N38: 113/03/10 | O38: F-企業 | P38: A4,B4 | Q38: =VLOOKUP(A:A,[1]產學計畫建檔!$A:$R,18) -> 無
A39: HK111-128 | B39: 112 | C39: 111 | D39: 智慧科技學院 | E39: 環安系 | F39: 范煥榮 | H39: 產學合作研究計畫 | I39: 汎美檢驗科技有限公司 | J39: 南部科技廠廢棄物中化學特性分析計畫 | K39: 304400 | L39: 304400 | M39: 112/02/21 | N39: 113/06/30 | O39: F-企業 | P39: A3,A4 | Q39: =VLOOKUP(A:A,[1]產學計畫建檔!$A:$R,18) -> 無
A40: HK111-129 | B40: 112 | C40: 111 | D40: 民生創新學院 | E40: 美髮系 | F40: 廖晏伶 | H40: 產學合作研究計畫 | I40: 樂澄國際髮品企業社 | J40: 剪髮基礎教育規劃 | K40: 20000 | L40: 20000 | M40: 112/04/01 | N40: 113/03/31 | O40: F-企業 | P40: A5 | Q40: =VLOOKUP(A:A,[1]產學計畫建檔!$A:$R,18) -> 無
A41: HK111-130 | B41: 112 | C41: 111 | D41: 智慧科技學院 | E41: 環安系 | F41: 范煥榮 | H41: 產學合作研究計畫 | I41: 京丞資源國際有限公司 | J41: 112年度臺中市源頭減量與資源回收暨網頁維護綜合管理計畫-辦理垃圾採樣物理組成分析 | K41: 1218000 | L41: 1218000 | M41: 112/03/15 | N41: 113/12/31 | O41: F-企業 | P41: A4 | Q41: =VLOOKUP(A:A,[1]產學計畫建檔!$A:$R,18) -> 無
A42: HK111-131 | B42: 112 | C42: 111 | D42: 民生創新學院 | E42: 妝品系 | F42: 李珮琪 | G42: 陳明仁 | H42: 產學合作研究計畫 | I42: 綠藤生物科技股份有限公司 | J42: 化妝品產品安全資料表製作 | K42: 48000 | L42: 48000 | M42: 112/03/15 | N42: 112/06/30 | O42: F-企業 | P42: A4 | Q42: =VLOOKUP(A:A,[1]產學計畫建檔!$A:$R,18) -> 無
A43: HK111-132 | B43: 112 | C43: 111 | D43: 智慧科技學院 | E43: 環安系 | F43: 溫志中 | H43: 產學合作研究計畫 | I43: 弘澤工程技術顧問有限公司 | J43: 112年淡水河流量與濁度對河口地形變遷之影響分析 | K43: 200000 | L43: 200000 | M43: 112/03/07 | N43: 113/06/30 | O43: F-企業 | P43: A4,A5,B3,B6,C | Q43: =VLOOKUP(A:A,[1]產學計畫建檔!$A:$R,18) -> 無
A44: HK111-133 | B44: 112 | C44: 111 | D44: 民生創新學院 | E44: 食科系 | F44: 楊智偉 | G44: 李菁菁 | H44: 產學合作研究計畫 | I44: TOTUS HK LTD | J44: 亞洲區烘焙技術知識傳遞與人才育成 | K44: 160000 | L44: 160000 | M44: 112/04/01 | N44: 113/12/31 | O44: F-企業 | P44: B5 | Q44: =VLOOKUP(A:A,[1]產學計畫建檔!$A:$R,18) -> 無
A45: HK111-134 | B45: 112 | C45: 111 | D45: 民生創新學院 | E45: 幼保系 | F45: 何函儒 | G45: 邱華慧 | H45: 產學合作研究計畫 | I45: 臺中市私立大都會幼兒園 | J45: 親子情緒共讀 | K45: 66000 | L45: 66000 | M45: 112/04/01 | N45: 112/09/30 | O45: H-其他 | P45: A1,B5 | Q45: =VLOOKUP(A:A,[1]產學計畫建檔!$A:$R,18) -> 50
A46: HK111-135 | B46: 112 | C46: 111 | D46: 民生創新學院 | E46: 妝品系 | F46: 陳明仁 | H46: 產學合作研究計畫 | I46: 全球昕兆國際股份有限公司 | J46: 81酵素去黑頭潔顏露之功效性評估 | K46: 161500 | L46: 161500 | M46: 112/03/15 | N46: 112/09/30 | O46: F-企業 | P46: A3 | Q46: =VLOOKUP(A:A,[1]產學計畫建檔!$A:$R,18) -> 1
A47: HK111-136 | B47: 112 | C47: 111 | D47: 智慧科技學院 | E47: 環安系 | F47: 范煥榮 | H47: 產學合作研究計畫 | I47: 晶淨科技股份有限公司 | J47: 南投縣112年度資源循環暨觀光、偏鄉地區資源回收推動計畫之垃圾採樣 | K47: 390000 | L47: 390000 | M47: 112/03/20 | N47: 113/12/31 | O47: F-企業 | P47: A4 | Q47: =VLOOKUP(A:A,[1]產學計畫建檔!$A:$R,18) -> 無
A48: HK111-137 | B48: 112 | C48: 111 | D48: 民生創新學院 | E48: 食科系 | F48: 陳玉舜 | G48: 陳俊曄 | H48: 產學合作研究計畫 | I48: 博世德有限公司 | J48: 機能性蜂蜜系列保健產品研發 | K48: 100000 | L48: 100000 | M48: 112/03/10 | N48: 113/03/10 | O48: F-企業 | P48: A4,B6 | Q48: =VLOOKUP(A:A,[1]產學計畫建檔!$A:$R,18) -> 無
A49: HK111-138 | B49: 112 | C49: 111 | D49: 民生創新學院 | E49: 餐旅系 | F49: 曾楷翔 | H49: 產學合作研究計畫 | I49: 蘭廷和牛專門店股份有限公司 | J49: 日本和牛品牌營運諮詢計畫 | K49: 60000 | L49: 60000 | M49: 112/03/01 | N49: 112/08/31 | O49: F-企業 | P49: A5,B6 | Q49: =VLOOKUP(A:A,[1]產學計畫建檔!$A:$R,18) -> 無
A50: HK111-139 | B50: 112 | C50: 111 | D50: 民生創新學院 | E50: 餐旅系 | F50: 許素鈴 | G50: 林麗雲 | H50: 產學合作研究計畫 | I50: 財團法人台灣優良農產品發展協會 | J50: 112年財政部優質認證酒品品評競賽 | K50: 450000 | L50: 450000 | M50: 112/03/20 | N50: 112/11/30 | O50: H-其他 | P50: A4 | Q50: =VLOOKUP(A:A,[1]產學計畫建檔!$A:$R,18) -> 無
A51: HK111-140 | B51: 112 | C51: 111 | D51: 通識教育中心 | E51: 通識中心 | F51: 王曉芬 | G51: 易光輝 | H51: 產學合作研究計畫 | I51: 軒郁國際股份有限公司 | J51: 精油成分檢測與功效性實驗之研究 | K51: 150000 | L51: 150000 | M51: 112/04/01 | N51: 117/03/31 | O51: F-企業 | P51: A1,A3 | Q51: =VLOOKUP(A:A,[1]產學計畫建檔!$A:$R,18) -> 無
A52: HK111-141 | B52: 112 | C52: 111 | D52: 通識教育中心 | E52: 通識中心 | F52: 王曉芬 | G52: 易光輝 | H52: 產學合作研究計畫 | I52: 軒郁國際股份有限公司 | J52: 精油抗氧化實驗指導與諮詢 | K52: 1000000 | L52: 1000000 | M52: 112/04/01 | N52: 116/03/31 | O52: F-企業 | P52: A5 | Q52: =VLOOKUP(A:A,[1]產學計畫建檔!$A:$R,18) -> 無
A53: HK111-142 | B53: 112 | C53: 111 | D53: 民生創新學院 | E53: 食科系 | F53: 楊智偉 | G53: 呂淑芬、李菁菁 | H53: 產學合作研究計畫 | I53: 元寶食品股份有限公司 | J53: 2023烘焙知識傳遞與人才培育 | K53: 50000 | L53: 50000 | M53: 112/02/01 | N53: 112/12/31 | O53: F-企業 | P53: B1 | Q53: =VLOOKUP(A:A,[1]產學計畫建檔!$A:$R,18) -> 無
A54: HK111-143 | B54: 112 | C54: 111 | D54: 民生創新學院 | E54: 餐旅系 | F54: 鄭錦慶 | H54: 產學合作研究計畫 | I54: 財團法人中衛發展中心 | J54: 112年產業發展加值輔導計畫-企業餐桌 | K54: 95000 | L54: 95000 | M54: 112/03/31 | N54: 112/06/30 | O54: H-其他 | P54: A4,A5,B1 | Q54: =VLOOKUP(A:A,[1]產學計畫建檔!$A:$R,18) -> 無
A55: HK111-144 | B55: 112 | C55: 111 | D55: 智慧科技學院 | E55: 環安系 | F55: 范煥榮 | H55: 產學合作研究計畫 | I55: 亞太環境科技股份有限公司 | J55: 111年度苗栗縣廚餘回收再利用及推廣工作計畫之一般廢棄物採樣 | K55: 105000 | L55: 105000 | M55: 112/03/30 | N55: 112/12/31 | O55: F-企業 | P55: A4 | Q55: =VLOOKUP(A:A,[1]產學計畫建檔!$A:$R,18) -> 無
A56: HK111-145 | B56: 112 | C56: 111 | D56: 民生創新學院 | E56: 美髮系 | F56: 邱蕙琳 | H56: 產學合作研究計畫 | I56: 私立彩田美術技藝短期補習班 | J56: 美術教材研發第1期產學合作計畫 | K56: 100000 | L56: 100000 | M56: 112/04/01 | N56: 113/03/31 | O56: H-其他 | P56: A5,B1 | Q56: =VLOOKUP(A:A,[1]產學計畫建檔!$A:$R,18) -> 無
A57: HK111-146 | B57: 112 | C57: 111 | D57: 民生創新學院 | E57: 美髮系 | F57: 陳佳惠 | G57: 高藤彩麗 | H57: 產學合作研究計畫 | I57: 舞踊知家有限公司 | J57: 舞踊知家日本浴衣文化髮型造型產學合作計畫 | K57: 100000 | L57: 100000 | M57: 112/02/17 | N57: 113/07/30 | O57: F-企業 | P57: A4,B1 | Q57: =VLOOKUP(A:A,[1]產學計畫建檔!$A:$R,18) -> 20
A58: HK111-147 | B58: 112 | C58: 111 | D58: 智慧科技學院 | E58: 環安系 | F58: 余森年 | H58: 產學合作研究計畫 | I58: 日向綠能股份有限公司 | J58: 室內配線技術士訓練實務計畫 | K58: 130000 | L58: 130000 | M58: 112/05/01 | N58: 112/07/31 | O58: F-企業 | P58: A4 | Q58: =VLOOKUP(A:A,[1]產學計畫建檔!$A:$R,18) -> 1
A59: HK111-148 | B59: 112 | C59: 111 | D59: 民生創新學院 | E59: 文創系 | F59: 林敬榮 | G59: 胡庭禎 | H59: 產學合作研究計畫 | I59: 台灣職業技術發展協會 | J59: 以價值共創觀點發展技師學院課程機制 | K59: 800000 | L59: 800000 | M59: 112/05/01 | N59: 113/04/30 | O59: H-其他 | P59: A5,B1 | Q59: =VLOOKUP(A:A,[1]產學計畫建檔!$A:$R,18) -> 無
A60: HK111-149 | B60: 112 | C60: 111 | D60: 民生創新學院 | E60: 妝品系 | F60: 陳明仁 | H60: 產學合作研究計畫 | I60: 沐信生化科技有限司 | J60: 帕拉斯全方位能量乳霜之功效性評估 | K60: 163000 | L60: 163000 | M60: 112/05/01 | N60: 113/04/30 | O60: F-企業 | P60: A3 | Q60: =VLOOKUP(A:A,[1]產學計畫建檔!$A:$R,18) -> 1
A61: HK111-150 | B61: 112 | C61: 111 | D61: 智慧科技學院 | E61: 環安系 | F61: 溫志中 | H61: 產學合作研究計畫 | I61: 泓海工程顧問有限公司 | J61: 花蓮港二級海岸侵淤熱點調查及因應措施(第3期) | K61: 300000 | L61: 300000 | M61: 112/04/26 | N61: 113/03/31 | O61: F-企業 | P61: A4,A5,B3,B6,C | Q61: =VLOOKUP(A:A,[1]產學計畫建檔!$A:$R,18) -> 無
A62: HK111-151 | B62: 112 | C62: 111 | D62: 民生創新學院 | E62: 英語系 | F62: 陳美伶 | H62: 產學合作研究計畫 | I62: 人才天下有限公司 | J62: 國際會議接待人才培育計畫 | K62: 29064 | L62: 29064 | M62: 112/04/26 | N62: 112/06/15 | O62: H-其他 | P62: B1,B5 | Q62: =VLOOKUP(A:A,[1]產學計畫建檔!$A:$R,18) -> 11
A63: HK111-152 | B63: 112 | C63: 111 | D63: 智慧科技學院 | E63: 環安系 | F63: 溫志中 | H63: 產學合作研究計畫 | I63: 艾奕康工程顧問股份有限公司 | J63: EIA Consultancy Service of Changhwa Offshore Wind Farm Project 海域水質及地形變遷模擬評估 | K63: 1150000 | L63: 1150000 | M63: 112/04/07 | N63: 114/06/30 | O63: F-企業 | P63: A4,A5,B3,B6,C | Q63: =VLOOKUP(A:A,[1]產學計畫建檔!$A:$R,18) -> 無
A64: HK111-153 | B64: 112 | C64: 111 | D64: 醫療健康學院 | E64: 營養系 | F64: 莊正宏 | G64: 黃進發 陳明仁 黃文盈 | H64: 產學合作研究計畫 | I64: 玉美生技股份有限公司 | J64: 食品與食材安全衛生輔導計畫 | K64: 100000 | L64: 100000 | M64: 112/04/01 | N64: 114/03/31 | O64: F-企業 | P64: A3,A4 | Q64: =VLOOKUP(A:A,[1]產學計畫建檔!$A:$R,18) -> 無
A65: HK111-154 | B65: 112 | C65: 111 | D65: 民生創新學院 | E65: 美髮系 | F65: 呂佩芸 | H65: 產學合作研究計畫 | I65: 有機模式有限公司 | J65: 頭皮管理師培訓計畫 | K65: 110000 | L65: 110000 | M65: 112/04/10 | N65: 112/12/30 | O65: F-企業 | P65: A4,B5 | Q65: =VLOOKUP(A:A,[1]產學計畫建檔!$A:$R,18) -> 10
A66: HK111-155 | B66: 112 | C66: 111 | D66: 民生創新學院 | E66: 餐旅系 | F66: 黃汶達 | H66: 產學合作研究計畫 | I66: 京丞資源國際有限公司 | J66: 112年「首惜廚師」臺中市初(複)賽 | K66: 80000 | L66: 80000 | M66: 112/05/01 | N66: 112/09/30 | O66: F-企業 | P66: A5,B4,B5 | Q66: =VLOOKUP(A:A,[1]產學計畫建檔!$A:$R,18) -> 無
A67: HK111-156 | B67: 112 | C67: 111 | D67: 民生創新學院 | E67: 食科系 | F67: 黃進發 | H67: 產學合作研究計畫 | I67: 禮晏生物科技股份有限公司 | J67: 微生物發酵與回收試驗 | K67: 50000 | L67: 50000 | M67: 112/05/01 | N67: 114/04/30 | O67: F-企業 | P67: A4,B5 | Q67: =VLOOKUP(A:A,[1]產學計畫建檔!$A:$R,18) -> 2
A68: HK111-157 | B68: 112 | C68: 111 | D68: 民生創新學院 | E68: 美髮系 | F68: 呂佩芸 | G68: 張聰民 | H68: 產學合作研究計畫 | I68: 麗絲美粧國際有限公司 | J68: 頭皮管理師專業培訓計畫 | K68: 110000 | L68: 110000 | M68: 112/04/10 | N68: 112/12/30 | O68: F-企業 | P68: A4,B5 | Q68: =VLOOKUP(A:A,[1]產學計畫建檔!$A:$R,18) -> 10
A69: HK111-158 | B69: 112 | C69: 111 | D69: 醫療健康學院 | E69: 老福系 | F69: 黃玟娟 | H69: 產學合作研究計畫 | I69: 八福銀髮服務股份有限公司 | J69: 線上照顧管家服務培訓計畫(一) | K69: 300000 | L69: 300000 | M69: 112/05/01 | N69: 113/12/30 | O69: F-企業 | P69: A4,A5 | Q69: =VLOOKUP(A:A,[1]產學計畫建檔!$A:$R,18) -> 2
A70: HK111-159 | B70: 112 | C70: 111 | D70: 醫療健康學院 | E70: 語聽系 | F70: 黃慧琪 | H70: 產學合作研究計畫 | I70: 台灣小蝸牛聽語障礙關懷協會 | J70: 推廣高齡聽覺照護及社區聽力服務計畫 | K70: 120000 | L70: 120000 | M70: 112/06/01 | N70: 112/12/31 | O70: H-其他 | P70: A5,B1 | Q70: =VLOOKUP(A:A,[1]產學計畫建檔!$A:$R,18) -> 無
A71: HK111-160 | B71: 112 | C71: 111 | D71: 智慧科技學院 | E71: 環安系 | F71: 陳昌佑 | H71: 產學合作研究計畫 | I71: 三千金屬工業股份有限公司 | J71: ISO 50001建置輔導計畫 | K71: 212000 | L71: 212000 | M71: 112/05/01 | N71: 112/12/31 | O71: F-企業 | P71: A4,B1 | Q71: =VLOOKUP(A:A,[1]產學計畫建檔!$A:$R,18) -> 無
A72: HK111-161 | B72: 112 | C72: 111 | D72: 民生創新學院 | E72: 食科系 | F72: 陳俊曄 | G72: 王瑞蓮 | H72: 產學合作研究計畫 | I72: 聚陽食品工廠 | J72: 團膳食物之品質分析(II) | K72: 50000 | L72: 50000 | M72: 112/05/21 | N72: 113/05/20 | O72: F-企業 | P72: A3,A4,A5,B1 | Q72: =VLOOKUP(A:A,[1]產學計畫建檔!$A:$R,18) -> 無
A73: HK111-162 | B73: 112 | C73: 111 | D73: 智慧科技學院 | E73: 環安系 | F73: 溫志中 | H73: 產學合作研究計畫 | I73: 艾奕康工程顧問股份有限公司 | J73: EIA Consultancy Service of #17 Offshore Wind Farm Project海域水質及地形變遷模擬評估 | K73: 1034000 | L73: 1034000 | M73: 112/04/01 | N73: 113/12/31 | O73: F-企業 | P73: A4,A5,B3,B6,C | Q73: =VLOOKUP(A:A,[1]產學計畫建檔!$A:$R,18) -> 無
A74: HK111-163 | B74: 112 | C74: 111 | D74: 民生創新學院 | E74: 運休系 | F74: 張嚴仁 | G74: 蘇信坤 | H74: 產學合作研究計畫 | I74: 雅適健康事業有限公司 | J74: 銀髮運動師資培訓與銀髮健身推廣計畫 | K74: 200000 | L74: 200000 | M74: 112/04/01 | N74: 113/12/31 | O74: F-企業 | P74: B2,B5 | Q74: =VLOOKUP(A:A,[1]產學計畫建檔!$A:$R,18) -> 16
A75: HK111-164 | B75: 112 | C75: 111 | D75: 民生創新學院 | E75: 餐旅系 | F75: 黃汶達 | H75: 產學合作研究計畫 | I75: 台中市梧棲區農會 | J75: 母親節蛋糕之推廣 | K75: 41500 | L75: 41500 | M75: 112/05/01 | N75: 112/05/31 | O75: H-其他 | P75: A4,B6 | Q75: =VLOOKUP(A:A,[1]產學計畫建檔!$A:$R,18) -> 無
A76: HK111-165 | B76: 112 | C76: 111 | D76: 醫療健康學院 | E76: 營養系 | F76: 莊正宏 | H76: 產學合作研究計畫 | I76: 科達製藥股份有限公司 | J76: 枸杞發酵產品護眼配方設計與開發 | K76: 656000 | L76: 656000 | M76: 112/06/01 | N76: 113/05/31 | O76: F-企業 | P76: A1,A4 | Q76: =VLOOKUP(A:A,[1]產學計畫建檔!$A:$R,18) -> 無
A77: HK111-166 | B77: 112 | C77: 111 | D77: 民生創新學院 | E77: 食科系 | F77: 林麗雲 | G77: 吳武憲 | H77: 產學合作研究計畫 | I77: 臺中市石岡區農會 | J77: 柑茶加值化加工 | K77: 100000 | L77: 100000 | M77: 112/05/01 | N77: 112/12/31 | O77: H-其他 | P77: A1,A4 | Q77: =VLOOKUP(A:A,[1]產學計畫建檔!$A:$R,18) -> 2
A78: HK111-167 | B78: 112 | C78: 111 | D78: 民生創新學院 | E78: 妝品系 | F78: 易光輝 | G78: 王曉芬 | H78: 產學合作研究計畫 | I78: 使之覺醒生化科技有限公司 | J78: 以GC/MS檢測精油全成分之研究 | K78: 3000 | L78: 3000 | M78: 112/05/10 | N78: 112/12/09 | O78: F-企業 | P78: A3 | Q78: =VLOOKUP(A:A,[1]產學計畫建檔!$A:$R,18) -> 無
A79: HK111-168 | B79: 112 | C79: 111 | D79: 民生創新學院 | E79: 妝品系 | F79: 詹錦豐 | H79: 產學合作研究計畫 | I79: 雨利行生化科技實業有限公司 | J79: 棕梠酰四胜肽共軛銀奈米顆粒的理化性、總生菌數與經皮吸收檢測 | K79: 200000 | L79: 200000 | M79: 112/05/20 | N79: 113/03/31 | O79: F-企業 | P79: A3 | Q79: =VLOOKUP(A:A,[1]產學計畫建檔!$A:$R,18) -> 5
A80: HK111-169 | B80: 112 | C80: 111 | D80: 民生創新學院 | E80: 食科系 | F80: 陳玉舜 | G80: 陳俊曄 | H80: 產學合作研究計畫 | I80: 數位經濟國際股份有限公司 | J80: 中小型企業數位化及ESG雙轉型人才訓練與實務研討會 | K80: 100000 | L80: 100000 | M80: 112/06/15 | N80: 113/12/31 | O80: F-企業 | P80: B2,B5 | Q80: =VLOOKUP(A:A,[1]產學計畫建檔!$A:$R,18) -> 2
A81: HK111-170 | B81: 112 | C81: 111 | D81: 民生創新學院 | E81: 食科系 | F81: 陳玉舜 | G81: 陳俊曄 | H81: 產學合作研究計畫 | I81: 思蔻比企業社 | J81: 真菌及益生菌發酵液試量產及真菌毒素分析 | K81: 300000 | L81: 300000 | M81: 112/07/01 | N81: 114/06/30 | O81: F-企業 | P81: A4,B4 | Q81: =VLOOKUP(A:A,[1]產學計畫建檔!$A:$R,18) -> 2
A82: HK111-171 | B82: 112 | C82: 111 | D82: 民生創新學院 | E82: 妝品系 | F82: 許慈芳 | H82: 產學合作研究計畫 | I82: 香港商比丹國際有限公司台灣分公司 | J82: 比丹國際第二期品牌商品開發計畫 | K82: 115000 | L82: 115000 | M82: 112/05/01 | N82: 112/10/31 | O82: F-企業 | P82: A5 | Q82: =VLOOKUP(A:A,[1]產學計畫建檔!$A:$R,18) -> 2
A83: HK111-172 | B83: 112 | C83: 111 | D83: 智慧科技學院 | E83: 環安系 | F83: 陳昌佑 | H83: 產學合作研究計畫 | I83: 台灣引興股份有限公司 | J83: ISO 14067產品碳足跡盤查建置輔導計畫 | K83: 260000 | L83: 260000 | M83: 112/07/01 | N83: 113/03/31 | O83: F-企業 | P83: A4,B1 | Q83: =VLOOKUP(A:A,[1]產學計畫建檔!$A:$R,18) -> 無
A84: HK111-173 | B84: 112 | C84: 111 | D84: 民生創新學院 | E84: 幼保系 | F84: 邱華慧 | H84: 產學合作研究計畫 | I84: 臺中市私立大都會福和幼兒園 | J84: 112年教保人才培育計畫-Leader福和校 | K84: 409626 | L84: 409626 | M84: 112/07/10 | N84: 112/09/23 | O84: H-其他 | P84: B5 | Q84: =VLOOKUP(A:A,[1]產學計畫建檔!$A:$R,18) -> 6
A85: HK111-174 | B85: 112 | C85: 111 | D85: 民生創新學院 | E85: 幼保系 | F85: 張家卉 | H85: 產學合作研究計畫 | I85: 典通股份有限公司 | J85: 112年度臺北市兒童及少年生活狀況調查 | K85: 100000 | L85: 100000 | M85: 112/05/01 | N85: 113/04/30 | O85: F-企業 | P85: A5 | Q85: =VLOOKUP(A:A,[1]產學計畫建檔!$A:$R,18) -> 無
A86: HK111-175 | B86: 112 | C86: 111 | D86: 智慧科技學院 | E86: 智科系 | F86: 童建樺 | H86: 產學合作研究計畫 | I86: 力瑪科技股份有限公司 | J86: 智慧型太陽能光電發電設備檢測技術之研究 | K86: 500000 | L86: 500000 | M86: 112/07/01 | N86: 113/07/31 | O86: F-企業 | P86: A1 | Q86: =VLOOKUP(A:A,[1]產學計畫建檔!$A:$R,18) -> 無
A87: HK111-176 | B87: 112 | C87: 111 | D87: 民生創新學院 | E87: 幼保系 | F87: 邱華慧 | H87: 產學合作研究計畫 | I87: 臺中市私立大都會逢甲幼兒園 | J87: 112年教保人才培育計畫-Leader逢甲校 | K87: 169029 | L87: 169029 | M87: 112/07/28 | N87: 112/09/23 | O87: H-其他 | P87: B5 | Q87: =VLOOKUP(A:A,[1]產學計畫建檔!$A:$R,18) -> 3
A88: HK111-177 | B88: 112 | C88: 111 | D88: 民生創新學院 | E88: 幼保系 | F88: 邱華慧 | H88: 產學合作研究計畫 | I88: 臺中市私立大都會探索幼兒園 | J88: 112年教保人才培育計畫-Leader探索校 | K88: 281713 | L88: 281713 | M88: 112/07/28 | N88: 112/09/23 | O88: H-其他 | P88: B5 | Q88: =VLOOKUP(A:A,[1]產學計畫建檔!$A:$R,18) -> 5
A89: HK111-179 | B89: 112 | C89: 111 | D89: 民生創新學院 | E89: 醫工系 | F89: 黃彥博 | H89: 產學合作研究計畫 | I89: 南良國際股份有限公司台南分公司 | J89: 使用南良石磨烯床包式涼感墊產品對於體表微循環血流影響之檢測 | K89: 11000 | L89: 11000 | M89: 112/05/25 | N89: 112/12/31 | O89: F-企業 | P89: A3,B1,C | Q89: =VLOOKUP(A:A,[1]產學計畫建檔!$A:$R,18) -> 4
A90: HK111-180 | B90: 112 | C90: 111 | D90: 民生創新學院 | E90: 食科系 | F90: 黃志雄 | H90: 產學合作研究計畫 | I90: 東昇時尚烘焙坊 | J90: 烘焙產品研發 | K90: 400000 | L90: 400000 | M90: 112/07/01 | N90: 112/12/31 | O90: F-企業 | P90: A4,B6 | Q90: =VLOOKUP(A:A,[1]產學計畫建檔!$A:$R,18) -> 無
A91: HK111-181 | B91: 112 | C91: 111 | D91: 民生創新學院 | E91: 多遊系 | F91: 黃建基 | G91: 游東晉 | H91: 產學合作研究計畫 | I91: 睿誌整合行銷傳播有限公司 | J91: 2023雲林縣電競派對轉播技術實務 | K91: 340000 | L91: 340000 | M91: 112/07/01 | N91: 112/12/31 | O91: F-企業 | P91: A4,B1 | Q91: =VLOOKUP(A:A,[1]產學計畫建檔!$A:$R,18) -> 27
A92: HK111-182 | B92: 112 | C92: 111 | D92: 民生創新學院 | E92: 食科系 | F92: 林麗雲 | H92: 產學合作研究計畫 | I92: 財團法人台灣優良農產品發展協會 | J92: 112年度食品工廠衛生管理人員訓練班及112年度農產品加工製程暨衛生安全訓練班 | K92: 240000 | L92: 240000 | M92: 112/06/20 | N92: 112/12/01 | O92: H-其他 | P92: A4,A5,B2,B4,B5 | Q92: =VLOOKUP(A:A,[1]產學計畫建檔!$A:$R,18) -> 無
A93: HK111-183 | B93: 112 | C93: 111 | D93: 醫療健康學院 | E93: 營養系 | F93: 莊正宏 | G93: 黃進發 陳明仁 黃文盈 | H93: 產學合作研究計畫 | I93: 杏一醫療用品股份有限公司 | J93: 食品與餐飲安全衛生輔導計畫 | K93: 670000 | L93: 670000 | M93: 112/05/01 | N93: 114/12/31 | O93: F-企業 | P93: A3 | Q93: =VLOOKUP(A:A,[1]產學計畫建檔!$A:$R,18) -> 無
A94: HK111-184 | B94: 112 | C94: 111 | D94: 民生創新學院 | E94: 文創系 | F94: 賴可謙 | H94: 產學合作研究計畫 | I94: 臺中市農業創生協會 | J94: 農村市集活動視覺規劃設計 | K94: 100000 | L94: 100000 | M94: 112/07/03 | N94: 113/01/31 | O94: H-其他 | P94: A4,B1 | Q94: =VLOOKUP(A:A,[1]產學計畫建檔!$A:$R,18) -> 3
A95: HK111-185 | B95: 112 | C95: 111 | D95: 民生創新學院 | E95: 妝品系 | F95: 許慈芳 | G95: 葉明珍 宋琇鈺 | H95: 產學合作研究計畫 | I95: 大江生醫股份有限公司 | J95: MAXI膠原飲之補充於人體肌膚功效性評估 | K95: 1530100 | L95: 1530100 | M95: 112/07/01 | N95: 113/04/30 | O95: F-企業 | P95: A3 | Q95: =VLOOKUP(A:A,[1]產學計畫建檔!$A:$R,18) -> 6
A96: HK111-186 | B96: 112 | C96: 111 | D96: 民生創新學院 | E96: 食科系 | F96: 陳俊曄 | H96: 產學合作研究計畫 | I96: 吉米食品有限公司 | J96: 團膳食物之品質分析(II) | K96: 200000 | L96: 200000 | M96: 112/07/21 | N96: 113/07/20 | O96: F-企業 | P96: A3,A4,B1 | Q96: =VLOOKUP(A:A,[1]產學計畫建檔!$A:$R,18) -> 無
A97: HK111-187 | B97: 112 | C97: 111 | D97: 民生創新學院 | E97: 餐旅系 | F97: 王志榮 | G97: 李芳 鄭宇眞 | H97: 產學合作研究計畫 | I97: 中聚國際開發有限公司 | J97: 台灣美食與瓷繪藝術饗宴 | K97: 108000 | L97: 108000 | M97: 112/07/01 | N97: 112/12/31 | O97: F-企業 | P97: B1 | Q97: =VLOOKUP(A:A,[1]產學計畫建檔!$A:$R,18) -> 6
A98: HK111-188 | B98: 112 | C98: 111 | D98: 智慧科技學院 | E98: 醫工系 | F98: 黃彥博 | H98: 產學合作研究計畫 | I98: 南良國際股份有限公司台南分公司 | J98: 使用南良機能石墨烯鍺能量襪產品對於體表微循環血流影響之檢測 | K98: 11000 | L98: 11000 | M98: 112/07/01 | N98: 112/12/31 | O98: F-企業 | P98: A3,B1,C | Q98: =VLOOKUP(A:A,[1]產學計畫建檔!$A:$R,18) -> 4
A99: HK111-189 | B99: 112 | C99: 111 | D99: 智慧科技學院 | E99: 智科系 | F99: 陳富國 | G99: 郭俊良 陳佑全 | H99: 產學合作研究計畫 | I99: 航見科技股份有限公司 | J99: 無人機基本級專業操作證協訓計畫 | K99: 80000 | L99: 80000 | M99: 112/05/31 | N99: 112/07/31 | O99: F-企業 | P99: A4,B5 | Q99: =VLOOKUP(A:A,[1]產學計畫建檔!$A:$R,18) -> 無
A100: HK111-190 | B100: 112 | C100: 111 | D100: 民生創新學院 | E100: 食科系 | F100: 吳武憲 | G100: 林麗雲 | H100: 產學合作研究計畫 | I100: 信義鄉農會 | J100: 梅子歐包研發及生產 | K100: 300000 | L100: 300000 | M100: 112/06/01 | N100: 112/12/31 | O100: H-其他 | P100: A1,A3,A4 | Q100: =VLOOKUP(A:A,[1]產學計畫建檔!$A:$R,18) -> 3
...

Sheet 護理系
A1: 計畫編號 | B1: 年度 | C1: 學年度 | D1: 學院 | E1: 系科別 | F1: 主持人 | G1: 共(協)同主持人 | H1: 類別 | I1: 委託單位 | J1: 計畫名稱 | K1: 廠商 補助款 | L1: 總經費 | M1: 開始日期 | N1: 結束日期 | O1: F-企業 H-其他 | P1: 計畫性質 | Q1: 預計培育人數 | R1: 實際培育人數
A2: HK111-082 | B2: 112 | C2: 111 | D2: 護理學院 | E2: 護理系 | F2: 江采宜 | G2: 王香蘋 | H2: 產學合作研究計畫 | I2: 大漢酵素生物科技股份有限公司 | J2: 蔬果植物發酵液對於代謝症候群之成效 | K2: 300000 | L2: 300000 | M2: 112/01/01 | N2: 112/12/31 | O2: F-企業 | P2: A1 | Q2: 1
A3: HK111-098 | B3: 112 | C3: 111 | D3: 護理學院 | E3: 護理系 | F3: 譚蓉瑩 | G3: 雷若莉 | H3: 產學合作研究計畫 | I3: 中華高齡專業照護訓練協會 | J3: 高齡照護人才培育精進計畫 | K3: 330000 | L3: 330000 | M3: 112/01/01 | N3: 114/12/31 | O3: H-其他 | P3: B1 | Q3: 無
A4: HK111-107 | B4: 112 | C4: 111 | D4: 護理學院 | E4: 護理系 | F4: 雷若莉 | H4: 產學合作研究計畫 | I4: Eastern Michigan University School of Nursing | J4: 長者智慧健康藝術照顧方案設計與發展 Design and Develop Art for Brian Health (ABH) Program for Seniors | K4: 487325 | L4: 487325 | M4: 112/01/01 | N4: 114/06/30 | O4: H-其他 | P4: A5,B5 | Q4: 5
A5: HK112-053 | B5: 112 | C5: 112 | D5: 護理學院 | E5: 護理系 | F5: 陳淑齡 | H5: 產學合作研究計畫 | I5: 光田醫療社團法人光田綜合醫院 | J5: 擴增實境教材研發計畫 | K5: 330000 | L5: 330000 | M5: 112/10/01 | N5: 112/12/31 | O5: F-企業 | P5: A4 | Q5: 無
A11: 承辦人核章: 單位主管核章: 院長核章:

Sheet 醫材系
A1: 計畫編號 | B1: 年度 | C1: 學年度 | D1: 學院 | E1: 系科別 | F1: 主持人 | G1: 共(協)同主持人 | H1: 類別 | I1: 委託單位 | J1: 計畫名稱 | K1: 廠商 補助款 | L1: 總經費 | M1: 開始日期 | N1: 結束日期 | O1: F-企業 H-其他 | P1: 計畫性質 | Q1: 預計培育人數 | R1: 實際培育人數
A2: HK111-099 | B2: 112 | C2: 111 | D2: 智慧科技學院 | E2: 醫材系 | F2: 常閎智 | H2: 產學合作研究計畫 | I2: 台灣塑膠工業股份有限公司 | J2: 扶持精準健康福祉產業發展-以匹克球拍的設計開發之運動生物力學分析 | K2: 660000 | L2: 660000 | M2: 112/01/01 | N2: 112/09/30 | O2: F-企業 | P2: A1,B1,C | Q2: 無
A3: HK111-179 | B3: 112 | C3: 111 | D3: 民生創新學院 | E3: 醫材系 | F3: 黃彥博 | H3: 產學合作研究計畫 | I3: 南良國際股份有限公司台南分公司 | J3: 使用南良石磨烯床包式涼感墊產品對於體表微循環血流影響之檢測 | K3: 11000 | L3: 11000 | M3: 112/05/25 | N3: 112/12/31 | O3: F-企業 | P3: A3,B1,C | Q3: 4
A4: HK111-188 | B4: 112 | C4: 111 | D4: 智慧科技學院 | E4: 醫材系 | F4: 黃彥博 | H4: 產學合作研究計畫 | I4: 南良國際股份有限公司台南分公司 | J4: 使用南良機能石墨烯鍺能量襪產品對於體表微循環血流影響之檢測 | K4: 11000 | L4: 11000 | M4: 112/07/01 | N4: 112/12/31 | O4: F-企業 | P4: A3,B1,C | Q4: 4
A5: HK112-021 | B5: 112 | C5: 112 | D5: 智慧科技學院 | E5: 醫材系 | F5: 黃彥博 | H5: 產學合作研究計畫 | I5: 南良國際股份有限公司台南分公司 | J5: 使用南良超能石墨烯雲端舒壓枕產品對於體表微循環血流影響之檢測 | K5: 11000 | L5: 11000 | M5: 112/08/01 | N5: 113/03/01 | O5: F-企業 | P5: A3,B1,C | Q5: 4
A6: HK112-049 | B6: 112 | C6: 112 | D6: 智慧科技學院 | E6: 醫材系 | F6: 陳信介 | H6: 產學合作研究計畫 | I6: 悅序有限公司 | J6: 智能監測的智慧居家系統之研製 | K6: 300000 | L6: 300000 | M6: 112/11/01 | N6: 113/10/31 | O6: F-企業 | P6: A1 | Q6: 0
A7: HK112-056 | B7: 112 | C7: 112 | D7: 智慧科技學院 | E7: 醫材系 | F7: 陳信介 | H7: 產學合作研究計畫 | I7: 大正和儀器股份有限公司 | J7: 臨床滅菌設備產品製造與開發及人才培訓計畫 | K7: 300000 | L7: 300000 | M7: 112/11/01 | N7: 114/05/31 | O7: F-企業 | P7: B1,B4 | Q7: 無
A8: HK112-057 | B8: 112 | C8: 112 | D8: 智慧科技學院 | E8: 醫材系 | F8: 陳信介 | H8: 產學合作研究計畫 | I8: 沛旭生技有限公司 | J8: 植入式醫療器材產品應用與企劃及人才培訓計畫 | K8: 300000 | L8: 300000 | M8: 112/11/01 | N8: 114/05/31 | O8: F-企業 | P8: B1,B4 | Q8: 無
A9: HK112-061 | B9: 112 | C9: 112 | D9: 智慧科技學院 | E9: 醫材系 | F9: 黃彥博 | H9: 產學合作研究計畫 | I9: 南良國際股份有限公司台南分公司 | J9: 使用南良石墨烯鈦鍺護脖對於體表微循環血流影響之檢測 | K9: 11000 | L9: 11000 | M9: 112/10/01 | N9: 113/03/30 | O9: F-企業 | P9: A3,A4,B1,C | Q9: 4
A10: HK112-085 | B10: 112 | C10: 112 | D10: 智慧科技學院 | E10: 醫材系 | F10: 黃彥博 | H10: 產學合作研究計畫 | I10: 南良國際股份有限公司台南分公司 | J10: 使用南良石墨烯鈦鍺能量褲產品對於體表微循環血流影響之檢測 | K10: 11000 | L10: 11000 | M10: 112/11/01 | N10: 113/06/30 | O10: F-企業 | P10: A3,B1,C | Q10: 4
A11: HK112-114 | B11: 112 | C11: 112 | D11: 智慧科技學院 | E11: 醫材系 | F11: 黃彥博 | H11: 產學合作研究計畫 | I11: 南良國際股份有限公司台南分公司 | J11: 使用南良石墨烯能量釋壓床墊及石墨烯能鈦鍺鋅能量被產品對於體表微循環血流影響之檢測 | K11: 22000 | L11: 22000 | M11: 112/12/01 | N11: 113/06/30 | O11: F-企業 | P11: A3,B1,C | Q11: 4
A14: 承辦人核章: 單位主管核章: 院長核章:

Sheet 環安系
A1: 計畫編號 | B1: 年度 | C1: 學年度 | D1: 學院 | E1: 系科別 | F1: 主持人 | G1: 共(協)同主持人 | H1: 類別 | I1: 委託單位 | J1: 計畫名稱 | K1: 廠商 補助款 | L1: 總經費 | M1: 開始日期 | N1: 結束日期 | O1: F-企業 H-其他 | P1: 計畫性質 | Q1: 預計培育人數 | R1: 實險培育人數
A2: HK111-101 | B2: 112 | C2: 111 | D2: 智慧科技學院 | E2: 環安系 | F2: 范煥榮 | H2: 產學合作研究計畫 | I2: 勤毅工程顧問有限公司 | J2: 彰化縣福興地區區域性垃圾聯合處理場整理工程之垃圾採樣分析 | K2: 120000 | L2: 120000 | M2: 112/01/16 | N2: 112/12/31 | O2: F-企業 | P2: A4 | Q2: 無
A3: HK111-104 | B3: 112 | C3: 111 | D3: 智慧科技學院 | E3: 環安系 | F3: 余森年 | G3: 陳佑全 | H3: 產學合作研究計畫 | I3: 力瑪科技股份有限公司 | J3: Cigs太陽光電模組發電效率量測 | K3: 60000 | L3: 60000 | M3: 112/02/10 | N3: 112/07/09 | O3: F-企業 | P3: A1 | Q3: 1
A4: HK111-105 | B4: 112 | C4: 111 | D4: 智慧科技學院 | E4: 環安系 | F4: 范煥榮 | H4: 產學合作研究計畫 | I4: 上準環境科技股份有限公司 | J4: 工業廢棄物中化學與熱值特性分析計畫 | K4: 28500 | L4: 28500 | M4: 112/02/13 | N4: 112/03/31 | O4: F-企業 | P4: A3,A4 | Q4: 無
A5: HK111-113 | B5: 112 | C5: 111 | D5: 智慧科技學院 | E5: 環安系 | F5: 溫志中 | H5: 產學合作研究計畫 | I5: 艾奕康工程顧問股份有限公司 | J5: Environmental Impact Assessment for VENA No.7 Offshore Wind Farm 海域水質模擬、地形變遷及基樁淘刷評估 | K5: 1800000 | L5: 1800000 | M5: 112/02/01 | N5: 114/06/30 | O5: F-企業 | P5: A4,A5,B3,B6,B6,C | Q5: 無
A6: HK111-114 | B6: 112 | C6: 111 | D6: 智慧科技學院 | E6: 環安系 | F6: 范煥榮 | H6: 產學合作研究計畫 | I6: 上境科技股份有限公司 | J6: 112年彰化縣資源回收綜合管理計畫之垃圾採樣 | K6: 429000 | L6: 429000 | M6: 112/02/22 | N6: 113/12/31 | O6: F-企業 | P6: A4 | Q6: 無
A7: HK111-120 | B7: 112 | C7: 111 | D7: 智慧科技學院 | E7: 環安系 | F7: 黃文鑑 | H7: 產學合作研究計畫 | I7: 技迪科技股份有限公司 | J7: 水中硼、氟、顆粒物粒徑之檢測及方法驗證研究 | K7: 50000 | L7: 50000 | M7: 112/01/01 | N7: 113/07/31 | O7: F-企業 | P7: A4 | Q7: 無
A8: HK111-128 | B8: 112 | C8: 111 | D8: 智慧科技學院 | E8: 環安系 | F8: 范煥榮 | H8: 產學合作研究計畫 | I8: 汎美檢驗科技有限公司 | J8: 南部科技廠廢棄物中化學特性分析計畫 | K8: 304400 | L8: 304400 | M8: 112/02/21 | N8: 113/06/30 | O8: F-企業 | P8: A3,A4 | Q8: 無
A9: HK111-130 | B9: 112 | C9: 111 | D9: 智慧科技學院 | E9: 環安系 | F9: 范煥榮 | H9: 產學合作研究計畫 | I9: 京丞資源國際有限公司 | J9: 112年度臺中市源頭減量與資源回收暨網頁維護綜合管理計畫-辦理垃圾採樣物理組成分析 | K9: 1218000 | L9: 1218000 | M9: 112/03/15 | N9: 113/12/31 | O9: F-企業 | P9: A4 | Q9: 無
A10: HK111-132 | B10: 112 | C10: 111 | D10: 智慧科技學院 | E10: 環安系 | F10: 溫志中 | H10: 產學合作研究計畫 | I10: 弘澤工程技術顧問有限公司 | J10: 112年淡水河流量與濁度對河口地形變遷之影響分析 | K10: 200000 | L10: 200000 | M10: 112/03/07 | N10: 113/06/30 | O10: F-企業 | P10: A4,A5,B3,B6,C | Q10: 無
A11: HK111-136 | B11: 112 | C11: 111 | D11: 智慧科技學院 | E11: 環安系 | F11: 范煥榮 | H11: 產學合作研究計畫 | I11: 晶淨科技股份有限公司 | J11: 南投縣112年度資源循環暨觀光、偏鄉地區資源回收推動計畫之垃圾採樣 | K11: 390000 | L11: 390000 | M11: 112/03/20 | N11: 113/12/31 | O11: F-企業 | P11: A4 | Q11: 無
A12: HK111-144 | B12: 112 | C12: 111 | D12: 智慧科技學院 | E12: 環安系 | F12: 范煥榮 | H12: 產學合作研究計畫 | I12: 亞太環境科技股份有限公司 | J12: 111年度苗栗縣廚餘回收再利用及推廣工作計畫之一般廢棄物採樣 | K12: 105000 | L12: 105000 | M12: 112/03/30 | N12: 112/12/31 | O12: F-企業 | P12: A4 | Q12: 無
A13: HK111-147 | B13: 112 | C13: 111 | D13: 智慧科技學院 | E13: 環安系 | F13: 余森年 | H13: 產學合作研究計畫 | I13: 日向綠能股份有限公司 | J13: 室內配線技術士訓練實務計畫 | K13: 130000 | L13: 130000 | M13: 112/05/01 | N13: 112/07/31 | O13: F-企業 | P13: A4 | Q13: 1
A14: HK111-150 | B14: 112 | C14: 111 | D14: 智慧科技學院 | E14: 環安系 | F14: 溫志中 | H14: 產學合作研究計畫 | I14: 泓海工程顧問有限公司 | J14: 花蓮港二級海岸侵淤熱點調查及因應措施(第3期) | K14: 300000 | L14: 300000 | M14: 112/04/26 | N14: 113/03/31 | O14: F-企業 | P14: A4,A5,B3,B6,C | Q14: 無
A15: HK111-152 | B15: 112 | C15: 111 | D15: 智慧科技學院 | E15: 環安系 | F15: 溫志中 | H15: 產學合作研究計畫 | I15: 艾奕康工程顧問股份有限公司 | J15: EIA Consultancy Service of Changhwa Offshore Wind Farm Project 海域水質及地形變遷模擬評估 | K15: 1150000 | L15: 1150000 | M15: 112/04/07 | N15: 114/06/30 | O15: F-企業 | P15: A4,A5,B3,B6,C | Q15: 無
A16: HK111-160 | B16: 112 | C16: 111 | D16: 智慧科技學院 | E16: 環安系 | F16: 陳昌佑 | H16: 產學合作研究計畫 | I16: 三千金屬工業股份有限公司 | J16: ISO 50001建置輔導計畫 | K16: 212000 | L16: 212000 | M16: 112/05/01 | N16: 112/12/31 | O16: F-企業 | P16: A4,B1 | Q16: 無
A17: HK111-162 | B17: 112 | C17: 111 | D17: 智慧科技學院 | E17: 環安系 | F17: 溫志中 | H17: 產學合作研究計畫 | I17: 艾奕康工程顧問股份有限公司 | J17: EIA Consultancy Service of #17 Offshore Wind Farm Project海域水質及地形變遷模擬評估 | K17: 1034000 | L17: 1034000 | M17: 112/04/01 | N17: 113/12/31 | O17: F-企業 | P17: A4,A5,B3,B6,C | Q17: 無
A18: HK111-172 | B18: 112 | C18: 111 | D18: 智慧科技學院 | E18: 環安系 | F18: 陳昌佑 | H18: 產學合作研究計畫 | I18: 台灣引興股份有限公司 | J18: ISO 14067產品碳足跡盤查建置輔導計畫 | K18: 260000 | L18: 260000 | M18: 112/07/01 | N18: 113/03/31 | O18: F-企業 | P18: A4,B1 | Q18: 無
A19: HK112-031 | B19: 112 | C19: 112 | D19: 智慧科技學院 | E19: 環安系 | F19: 余森年 | H19: 產學合作研究計畫 | I19: 力瑪科技股份有限公司 | J19: 太陽光電系統操作安全性提升計畫 | K19: 200000 | L19: 200000 | M19: 112/09/01 | N19: 113/08/31 | O19: F-企業 | P19: A4 | Q19: 0
A20: HK112-040 | B20: 112 | C20: 112 | D20: 智慧科技學院 | E20: 環安系 | F20: 溫志中 | H20: 產學合作研究計畫 | I20: 艾奕康工程顧問股份有限公司 | J20: 環洋離岸風力發電計畫海域地形變遷模擬調整及掏刷模擬 | K20: 1210250 | L20: 1210250 | M20: 112/09/20 | N20: 112/12/31 | O20: F-企業 | P20: A4,A5,B3,B6,C | Q20: 0
A21: HK112-052 | B21: 112 | C21: 112 | D21: 智慧科技學院 | E21: 環安系 | F21: 范煥榮 | H21: 產學合作研究計畫 | I21: 上準環境科技股份有限公司 | J21: 台中市工業廢棄物化學組成之研究 | K21: 24600 | L21: 24600 | M21: 112/09/20 | N21: 112/12/31 | O21: F-企業 | P21: A3,A4,A5 | Q21: 0
A22: HK112-076 | B22: 112 | C22: 112 | D22: 智慧科技學院 | E22: 環安系 | F22: 溫志中 | H22: 產學合作研究計畫 | I22: 泓海工程顧問有限公司 | J22: 112年梗枋漁港攔砂堤延長可行性評估 | K22: 400000 | L22: 400000 | M22: 112/11/06 | N22: 113/12/31 | O22: F-企業 | P22: A4,A5,B3,B6,C | Q22: 無
A23: HK112-087 | B23: 112 | C23: 112 | D23: 智慧科技學院 | E23: 環安系 | F23: 溫志中 | H23: 產學合作研究計畫 | I23: 世博工程顧問有限公司 | J23: 國防部「陸軍航特部兩棲偵察營外離島港勤設施新建工程」馬祖基地(珠螺角據點)海側回填擴建工程-「地形變遷分析」及「周邊坡、流場分析」 | K23: 350000 | L23: 350000 | M23: 112/10/20 | N23: 113/12/31 | O23: F-企業 | P23: A4,A5,B3,B6,C | Q23: 無
A24: HK112-089 | B24: 112 | C24: 112 | D24: 智慧科技學院 | E24: 環安系 | F24: 羅金翔 | H24: 產學合作研究計畫 | I24: 台灣綠仕科技有限公司 | J24: 台中海線大氣次微米微粒濃度分布與成分分析 | K24: 500000 | L24: 500000 | M24: 112/11/15 | N24: 113/06/15 | O24: F-企業 | P24: A4,B1 | Q24: 82
A25: HK112-109 | B25: 112 | C25: 112 | D25: 智慧科技學院 | E25: 環安系 | F25: 余森年 | H25: 產學合作研究計畫 | I25: 方達科技股份有限公司 | J25: 簡易型能源顯示系統研製 | K25: 150000 | L25: 150000 | M25: 112/11/15 | N25: 113/11/14 | O25: F-企業 | P25: A4 | Q25: 無
A26: HK112-120 | B26: 112 | C26: 112 | D26: 智慧科技學院 | E26: 環安系 | F26: 范煥榮 | H26: 產學合作研究計畫 | I26: 上境科技股份有限公司 | J26: 112年彰化縣垃圾採樣物理組成調查 | K26: 115500 | L26: 115500 | M26: 112/12/01 | N26: 113/06/30 | O26: F-企業 | P26: A3,A4,A5 | Q26: 無
A35: 承辦人核章: 單位主管核章: 院長核章:

Sheet 智科系
A1: 計畫編號 | B1: 年度 | C1: 學年度 | D1: 學院 | E1: 系科別 | F1: 主持人 | G1: 共(協)同主持人 | H1: 類別 | I1: 委託單位 | J1: 計畫名稱 | K1: 廠商 補助款 | L1: 總經費 | M1: 開始日期 | N1: 結束日期 | O1: F-企業 H-其他 | P1: 計畫性質 | Q1: 預計培育人數 | R1: 實際培育人數
A2: HK111-175 | B2: 112 | C2: 111 | D2: 智慧科技學院 | E2: 智科系 | F2: 童建樺 | H2: 產學合作研究計畫 | I2: 力瑪科技股份有限公司 | J2: 智慧型太陽能光電發電設備檢測技術之研究 | K2: 500000 | L2: 500000 | M2: 112/07/01 | N2: 113/07/31 | O2: F-企業 | P2: A1 | Q2: 無
A3: HK111-189 | B3: 112 | C3: 111 | D3: 智慧科技學院 | E3: 智科系 | F3: 陳富國 | G3: 郭俊良 陳佑全 | H3: 產學合作研究計畫 | I3: 航見科技股份有限公司 | J3: 無人機基本級專業操作證協訓計畫 | K3: 80000 | L3: 80000 | M3: 112/05/31 | N3: 112/07/31 | O3: F-企業 | P3: A4,B5 | Q3: 無
A4: HK112-014 | B4: 112 | C4: 112 | D4: 智慧科技學院 | E4: 智科系 | F4: 陳富國 | G4: 郭俊良 陳佑全 魏榮君 | H4: 產學合作研究計畫 | I4: 首羿國際股份有限公司 | J4: 無人機群飛商業表演 | K4: 70000 | L4: 70000 | M4: 112/08/01 | N4: 112/08/31 | O4: F-企業 | P4: A4,B1,C | Q4: 0
A5: HK112-043 | B5: 112 | C5: 112 | D5: 智慧科技學院 | E5: 智科系 | F5: 陳富國 | G5: 郭俊良 陳佑全 | H5: 產學合作研究計畫 | I5: 社團法人台灣創造活動發展協會 | J5: 產業人才投資方案計畫-翱翔天際:無人機飛行訓練班第01期 | K5: 18000 | L5: 18000 | M5: 112/10/01 | N5: 112/12/31 | O5: H-其他 | P5: A4,B5 | Q5: 0
A6: HK112-051 | B6: 112 | C6: 112 | D6: 智慧科技學院 | E6: 智科系 | F6: 郭俊良 | G6: 陳富國 陳佑全 | H6: 產學合作研究計畫 | I6: 航見科技股份有限公司 | J6: 無人機基本及專業操作證協訓計畫 | K6: 22000 | L6: 22000 | M6: 112/09/25 | N6: 113/01/31 | O6: F-企業 | P6: B5 | Q6: 無
A7: HK112-064 | B7: 112 | C7: 112 | D7: 智慧科技學院 | E7: 智科系 | F7: 陳富國 | G7: 郭俊良 王堯天 | H7: 產學合作研究計畫 | I7: 社團法人台灣創造活動發展協會 | J7: 產業人才投資方案計畫-空中奇想:無人機飛行操作進階班01期 | K7: 18000 | L7: 18000 | M7: 112/11/01 | N7: 113/02/29 | O7: H-其他 | P7: A4,B5 | Q7: 無
A8: HK112-065 | B8: 112 | C8: 112 | D8: 智慧科技學院 | E8: 智科系 | F8: 郭俊良 | G8: 陳富國 陳俊元 | H8: 產學合作研究計畫 | I8: 磐誠工程顧問股份有限公司 | J8: 台南市柳營科技工業區空氣品質監測計畫 | K8: 120000 | L8: 120000 | M8: 112/10/15 | N8: 112/12/31 | O8: F-企業 | P8: A4 | Q8: 3
A9: HK112-067 | B9: 112 | C9: 112 | D9: 智慧科技學院 | E9: 智科系 | F9: 郭俊良 | G9: 陳富國 陳佑全 | H9: 產學合作研究計畫 | I9: 翼翔航空股份有限公司 | J9: 無人機群發展演教學活動 | K9: 25000 | L9: 25000 | M9: 112/10/05 | N9: 113/01/31 | O9: F-企業 | P9: B1 | Q9: 3
A10: HK112-075 | B10: 112 | C10: 112 | D10: 智慧科技學院 | E10: 智科系 | F10: 郭俊良 | G10: 陳富國 楊昌儒 | H10: 產學合作研究計畫 | I10: 航見科技股份有限公司 | J10: 無人機基本級專業操作證協訓計畫 | K10: 16500 | L10: 16500 | M10: 112/11/01 | N10: 113/01/31 | O10: F-企業 | P10: B5 | Q10: 3
A11: HK112-077 | B11: 112 | C11: 112 | D11: 智慧科技學院 | E11: 智科系 | F11: 葉柏涼 | H11: 產學合作研究計畫 | I11: 督洋生技股份有限公司 | J11: 生理訊號回饋系統之研究 | K11: 500000 | L11: 500000 | M11: 112/09/01 | N11: 113/08/31 | O11: F-企業 | P11: A5,B4 | Q11: 無
A16: 承辦人核章: 單位主管核章: 院長核章:

Sheet 通識中心
A1: 計畫編號 | B1: 年度 | C1: 學年度 | D1: 學院 | E1: 系科別 | F1: 主持人 | G1: 共(協)同主持人 | H1: 類別 | I1: 委託單位 | J1: 計畫名稱 | K1: 廠商 補助款 | L1: 總經費 | M1: 開始日期 | N1: 結束日期 | O1: F-企業 H-其他 | P1: 計畫性質 | Q1: 預計培育人數 | R1: 實際培育人數
A2: 範例: HK111-055 | B2: 112 | C2: 111 | D2: ○○○○學院 | E2: ○○系 | F2: ○○○ | H2: 產學合作研究計畫 | I2: ○○○○○公司 | J2: ○○○○○○○○ | K2: 30000 | L2: 30000 | M2: 112/01/01 | N2: 112/12/31 | O2: F-企業 | P2: A1,B1 | Q2: 3
A3: 範例: HK111-056 | B3: 112 | C3: 111 | D3: ○○○○學院 | E3: ○○系 | F3: ○○○ | H3: 產學合作研究計畫 | I3: ○○○○○公司 | J3: ○○○○○○○○ | K3: 30000 | L3: 30000 | M3: 112/01/02 | N3: 112/12/32 | O3: F-企業 | P3: A1,B2 | Q3: 30
A4: HK111-111 | B4: 112 | C4: 111 | D4: 通識教育中心 | E4: 通識中心 | F4: 王曉芬 | G4: 易光輝 | H4: 產學合作研究計畫 | I4: 軒郁國際股份有限公司 | J4: FRSAB精油添加丹皮酚之抗氧化研究 | K4: 70400 | L4: 70400 | M4: 112/04/01 | N4: 113/03/31 | O4: F-企業 | P4: A1 | Q4: 無
A5: HK111-116 | B5: 112 | C5: 111 | D5: 通識教育中心 | E5: 通識中心 | F5: 王曉芬 | G5: 易光輝 | H5: 產學合作研究計畫 | I5: 軒郁國際股份有限公司 | J5: 美白精油組成物之瑞士日內瓦發明展競賽 | K5: 270593 | L5: 270593 | M5: 112/03/01 | N5: 113/02/28 | O5: F-企業 | P5: A1 | Q5: 無
A6: HK111-140 | B6: 112 | C6: 111 | D6: 通識教育中心 | E6: 通識中心 | F6: 王曉芬 | G6: 易光輝 | H6: 產學合作研究計畫 | I6: 軒郁國際股份有限公司 | J6: 精油成分檢測與功效性實驗之研究 | K6: 150000 | L6: 150000 | M6: 112/04/01 | N6: 117/03/31 | O6: F-企業 | P6: A1,A3 | Q6: 無
A7: HK111-141 | B7: 112 | C7: 111 | D7: 通識教育中心 | E7: 通識中心 | F7: 王曉芬 | G7: 易光輝 | H7: 產學合作研究計畫 | I7: 軒郁國際股份有限公司 | J7: 精油抗氧化實驗指導與諮詢 | K7: 1000000 | L7: 1000000 | M7: 112/04/01 | N7: 116/03/31 | O7: F-企業 | P7: A5 | Q7: 無
A8: HK112-054 | B8: 112 | C8: 112 | D8: 通識教育中心 | E8: 通識中心 | F8: 夏嘉梅 | G8: 張嚴仁 | H8: 產學合作研究計畫 | I8: 竹湖山居自然生態休閒農場 | J8: 竹湖山居戶外探索體驗人才培訓暨人文生態教育推廣 | K8: 450000 | L8: 450000 | M8: 112/10/01 | N8: 113/04/30 | O8: F-企業 | P8: B1 | Q8: 無
A15: 承辦人核章: 單位主管核章: 主任核章:

Sheet 營養系
A1: 計畫編號 | B1: 年度 | C1: 學年度 | D1: 學院 | E1: 系科別 | F1: 主持人 | G1: 共(協)同主持人 | H1: 類別 | I1: 委託單位 | J1: 計畫名稱 | K1: 廠商 補助款 | L1: 總經費 | M1: 開始日期 | N1: 結束日期 | O1: F-企業 H-其他 | P1: 計畫性質 | Q1: 預計培育人數 | R1: 實際培育人數
A2: HK111-122 | B2: 112 | C2: 111 | D2: 醫療健康學院 | E2: 營養系 | F2: 莊正宏 | G2: 黃進發 陳明仁 黃文盈 | H2: 產學合作研究計畫 | I2: 芫儂食品股份有限公司 | J2: 食品與食材危害因子分析與檢驗 | K2: 300000 | L2: 300000 | M2: 112/03/01 | N2: 114/08/31 | O2: F-企業 | P2: A3,A4 | Q2: 無
A3: HK111-153 | B3: 112 | C3: 111 | D3: 醫療健康學院 | E3: 營養系 | F3: 莊正宏 | G3: 黃進發 陳明仁 黃文盈 | H3: 產學合作研究計畫 | I3: 玉美生技股份有限公司 | J3: 食品與食材安全衛生輔導計畫 | K3: 100000 | L3: 100000 | M3: 112/04/01 | N3: 114/03/31 | O3: F-企業 | P3: A3,A4 | Q3: 無
A4: HK111-165 | B4: 112 | C4: 111 | D4: 醫療健康學院 | E4: 營養系 | F4: 莊正宏 | H4: 產學合作研究計畫 | I4: 科達製藥股份有限公司 | J4: 枸杞發酵產品護眼配方設計與開發 | K4: 656000 | L4: 656000 | M4: 112/06/01 | N4: 113/05/31 | O4: F-企業 | P4: A1,A4 | Q4: 無
A5: HK111-183 | B5: 112 | C5: 111 | D5: 醫療健康學院 | E5: 營養系 | F5: 莊正宏 | G5: 黃進發 陳明仁 黃文盈 | H5: 產學合作研究計畫 | I5: 杏一醫療用品股份有限公司 | J5: 食品與餐飲安全衛生輔導計畫 | K5: 670000 | L5: 670000 | M5: 112/05/01 | N5: 114/12/31 | O5: F-企業 | P5: A3 | Q5: 無
A6: HK112-010 | B6: 112 | C6: 112 | D6: 醫療健康學院 | E6: 營養系 | F6: 林志學 | H6: 產學合作研究計畫 | I6: 千淥科技股份有限公司 | J6: 建立大鼠缺血再灌注傷害之試驗平台 | K6: 600000 | L6: 600000 | M6: 112/08/01 | N6: 113/07/31 | O6: F-企業 | P6: A1,B1,B5 | Q6: 無
A7: HK112-018 | B7: 112 | C7: 112 | D7: 醫療健康學院 | E7: 營養系 | F7: 莊正宏 | G7: 林麗雲 | H7: 產學合作研究計畫 | I7: 良品團膳有限公司 | J7: 團膳餐盒工廠HACCP輔導及食品安全衛生檢驗計畫 | K7: 300000 | L7: 300000 | M7: 112/08/15 | N7: 115/08/14 | O7: F-企業 | P7: A3 | Q7: 無
A8: HK112-032 | B8: 112 | C8: 112 | D8: 醫療健康學院 | E8: 營養系 | F8: 林志學 | H8: 產學合作研究計畫 | I8: 艾克索生物科技股份有限公司 | J8: 口服餵食黑蒜精對小鼠免疫細胞的影響 | K8: 100000 | L8: 100000 | M8: 112/09/15 | N8: 113/01/31 | O8: F-企業 | P8: A1,B1,B5 | Q8: 無
A15: 承辦人核章: 單位主管核章: 院長核章:

Sheet 語聽系
A1: 計畫編號 | B1: 年度 | C1: 學年度 | D1: 學院 | E1: 系科別 | F1: 主持人 | G1: 共(協)同主持人 | H1: 類別 | I1: 委託單位 | J1: 計畫名稱 | K1: 廠商 補助款 | L1: 總經費 | M1: 開始日期 | N1: 結束日期 | O1: F-企業 H-其他 | P1: 計畫性質 | Q1: 預計培育人數 | R1: 實際培育人數
A2: HK111-159 | B2: 112 | C2: 111 | D2: 醫療健康學院 | E2: 語聽系 | F2: 黃慧琪 | H2: 產學合作研究計畫 | I2: 台灣小蝸牛聽語障礙關懷協會 | J2: 推廣高齡聽覺照護及社區聽力服務計畫 | K2: 120000 | L2: 120000 | M2: 112/06/01 | N2: 112/12/31 | O2: H-其他 | P2: A5,B1 | Q2: 無
A3: HK111-192 | B3: 112 | C3: 111 | D3: 醫療健康學院 | E3: 語聽系 | F3: 李佩曄 | H3: 產學合作研究計畫 | I3: 趣玩語言治療所 | J3: 偏遠地區語言治療所品質提升產學合作計畫 | K3: 500000 | L3: 500000 | M3: 112/07/01 | N3: 113/06/30 | O3: F-企業 | P3: A4,A5,B1,B2,B5 | Q3: 無
A9: 承辦人核章: 單位主管核章: 院長核章:

Sheet 老福系
A1: 計畫編號 | B1: 年度 | C1: 學年度 | D1: 學院 | E1: 系科別 | F1: 主持人 | G1: 共(協)同主持人 | H1: 類別 | I1: 委託單位 | J1: 計畫名稱 | K1: 廠商 補助款 | L1: 總經費 | M1: 開始日期 | N1: 結束日期 | O1: F-企業 H-其他 | P1: 計畫性質 | Q1: 預計培育人數 | R1: 實際培育人數
A2: HK111-158 | B2: 112 | C2: 111 | D2: 醫療健康學院 | E2: 老福系 | F2: 黃玟娟 | H2: 產學合作研究計畫 | I2: 八福銀髮服務股份有限公司 | J2: 線上照顧管家服務培訓計畫(一) | K2: 300000 | L2: 300000 | M2: 112/05/01 | N2: 113/12/30 | O2: F-企業 | P2: A4,A5 | Q2: 2
A10: 承辦人核章: 單位主管核章: 院長核章:

Sheet 動保系
A1: 計畫編號 | B1: 年度 | C1: 學年度 | D1: 學院 | E1: 系科別 | F1: 主持人 | G1: 共(協)同主持人 | H1: 類別 | I1: 委託單位 | J1: 計畫名稱 | K1: 廠商 補助款 | L1: 總經費 | M1: 開始日期 | N1: 結束日期 | O1: F-企業 H-其他 | P1: 計畫性質 | Q1: 預計培育人數 | R1: 實際培育人數
A2: HK112-033 | B2: 112 | C2: 112 | D2: 醫療健康學院 | E2: 動保系 | F2: 高肇鴻 | H2: 產學合作研究計畫 | I2: 瑞基海洋生物科技股份有限公司 | J2: 動物病原基因選殖與回收純化 | K2: 350000 | L2: 350000 | M2: 112/10/01 | N2: 113/12/31 | O2: F-企業 | P2: A4 | Q2: 4
A3: HK112-073 | B3: 112 | C3: 112 | D3: 醫療健康學院 | E3: 動保系 | F3: 侯志遠 | H3: 產學合作研究計畫 | I3: 王品寵物用品有限公司 | J3: 寵物業進口商行銷策略研究 | K3: 250000 | L3: 250000 | M3: 112/12/01 | N3: 113/11/30 | O3: F-企業 | P3: A1,A5,B1,B3,B5 | Q3: 1
A8: 承辦人核章: 單位主管核章: 院長核章:

Sheet 生科系
A1: 計畫編號 | B1: 年度 | C1: 學年度 | D1: 學院 | E1: 系科別 | F1: 主持人 | G1: 共(協)同主持人 | H1: 類別 | I1: 委託單位 | J1: 計畫名稱 | K1: 廠商 補助款 | L1: 總經費 | M1: 開始日期 | N1: 結束日期 | O1: F-企業 H-其他 | P1: 計畫性質 | Q1: 預計培育人數 | R1: 實際培育人數
A2: HK112-029 | B2: 112 | C2: 112 | D2: 醫療健康學院 | E2: 生科系 | F2: 程淑慧 | H2: 產學合作研究計畫 | I2: 正鼎生物科技股份有限公司 | J2: 含佳葉龍茶防曬噴劑之有效成份分析及功效評估 | K2: 500000 | L2: 500000 | M2: 112/09/01 | N2: 113/06/30 | O2: F-企業 | P2: A3 | Q2: 2
A7: 承辦人核章: 單位主管核章: 院長核章:

Sheet 物治系
A1: 計畫編號 | B1: 年度 | C1: 學年度 | D1: 學院 | E1: 系科別 | F1: 主持人 | G1: 共(協)同主持人 | H1: 類別 | I1: 委託單位 | J1: 計畫名稱 | K1: 廠商 補助款 | L1: 總經費 | M1: 開始日期 | N1: 結束日期 | O1: F-企業 H-其他 | P1: 計畫性質 | Q1: 預計培育人數 | R1: 實際培育人數
A2: HK112-104 | B2: 112 | C2: 112 | D2: 醫療健康學院 | E2: 物治系 | F2: 吳錫昆 | H2: 產學合作研究計畫 | I2: 福雅骨科家庭醫學科診所 | J2: 足部鞋墊設計對足部壓力影響分析-退化性膝關節炎注射板泌體之應用 | K2: 300000 | L2: 300000 | M2: 112/11/01 | N2: 114/04/30 | O2: H-其他 | P2: A3,A4 | Q2: 2
A7: 承辦人核章: 單位主管核章: 院長核章:

Sheet 食科系
A1: 計畫編號 | B1: 年度 | C1: 學年度 | D1: 學院 | E1: 系科別 | F1: 主持人 | G1: 共(協)同主持人 | H1: 類別 | I1: 委託單位 | J1: 計畫名稱 | K1: 廠商 補助款 | L1: 總經費 | M1: 開始日期 | N1: 結束日期 | O1: F-企業 H-其他 | P1: 計畫性質 | Q1: 預計培育人數 | R1: 實際培育人數
A2: HK111-077 | B2: 112 | C2: 111 | D2: 民生創新學院 | E2: 食科系 | F2: 林麗雲 | G2: 黃汶達 王俊勝 | H2: 產學合作研究計畫 | I2: 美食達人股份有限公司 | J2: 烘焙廠區與產品衛生監控及員工衛生教育 | K2: 500000 | L2: 500000 | M2: 112/01/01 | N2: 112/12/31 | O2: F-企業 | P2: A3,A4,A5,B1 | Q2: 5
A3: HK111-094 | B3: 112 | C3: 111 | D3: 民生創新學院 | E3: 食科系 | F3: 黃至盛 | G3: 柯耀筆 陳俊曄 | H3: 產學合作研究計畫 | I3: 萬味軒食品工業股份有限公司 | J3: 製程改善與分析之研究 | K3: 250000 | L3: 250000 | M3: 112/01/01 | N3: 113/05/31 | O3: F-企業 | P3: A3,B6 | Q3: 2
A4: HK111-097 | B4: 112 | C4: 111 | D4: 民生創新學院 | E4: 食科系 | F4: 林麗雲 | G4: 莊正宏 | H4: 產學合作研究計畫 | I4: 侑芳食品廠 | J4: 餐盒營養調配與衛生管理 | K4: 100000 | L4: 100000 | M4: 112/01/01 | N4: 112/12/31 | O4: F-企業 | P4: A1,A3,A4 | Q4: 3
A5: HK111-102 | B5: 112 | C5: 111 | D5: 民生創新學院 | E5: 食科系 | F5: 陳玉舜 | G5: 陳俊曄 楊齊生 謝東呈 | H5: 產學合作研究計畫 | I5: 佳聯生醫科技有限公司 | J5: 藥食同源之真菌多醣體保健產品研究及應用於提升免疫功能及抗過敏之機能性食品開發 | K5: 1000000 | L5: 1000000 | M5: 112/02/01 | N5: 114/12/31 | O5: F-企業 | P5: A4,B4 | Q5: 無
A6: HK111-106 | B6: 112 | C6: 111 | D6: 民生創新學院 | E6: 食科系 | F6: 林麗雲 | H6: 產學合作研究計畫 | I6: 永信社會福利基金會松柏園養護中心 | J6: 廚房動線修改及HACCP驗證輔導計畫 | K6: 180000 | L6: 180000 | M6: 112/01/01 | N6: 112/12/31 | O6: H-其他 | P6: A5,A9 | Q6: 2
A7: HK111-109 | B7: 112 | C7: 111 | D7: 民生創新學院 | E7: 食科系 | F7: 楊智偉 | G7: 呂淑芬、李菁菁 | H7: 產學合作研究計畫 | I7: 洽發企業股份有限公司 | J7: 2023烘焙知識傳遞與人才培育 | K7: 150000 | L7: 150000 | M7: 112/02/01 | N7: 112/12/31 | O7: F-企業 | P7: B1 | Q7: 無
A8: HK111-112 | B8: 112 | C8: 111 | D8: 民生創新學院 | E8: 食科系 | F8: 林聖敦 | G8: 許珮綺 | H8: 產學合作研究計畫 | I8: 南投縣農會 | J8: 梅胚的應用開發 | K8: 300000 | L8: 300000 | M8: 112/03/01 | N8: 112/12/31 | O8: H-其他 | P8: A1,A4,B1 | Q8: 2
A9: HK111-117 | B9: 112 | C9: 111 | D9: 民生創新學院 | E9: 食科系 | F9: 林聖敦 | G9: 許珮綺 | H9: 產學合作研究計畫 | I9: 禎祥食品工業股份有限公司(台灣)、禎宏泰食品股份有限公司(越南) | J9: 人才培育、新產品開發及產品品質改善 | K9: 750000 | L9: 750000 | M9: 112/03/01 | N9: 112/12/31 | O9: F-企業 | P9: A1,A4,B1 | Q9: 1
A10: HK111-119 | B10: 112 | C10: 111 | D10: 民生創新學院 | E10: 食科系 | F10: 楊智偉 | G10: 呂淑芬、李菁菁 | H10: 產學合作研究計畫 | I10: 三能食品器具股份有限公司 | J10: 2023烘焙知識傳遞與人才培育 | K10: 50000 | L10: 50000 | M10: 112/02/01 | N10: 112/12/31 | O10: F-企業 | P10: B1 | Q10: 無
A11: HK111-124 | B11: 112 | C11: 111 | D11: 民生創新學院 | E11: 食科系 | F11: 羅婉瑜 | G11: 王曉芬 | H11: 產學合作研究計畫 | I11: 軒郁國際股份有限公司 | J11: 以初級成人表皮角質細胞(Human Epidermal Keratinocyte adult, HEKa)評估軒郁公司商品機能性成分對特定緊迫模型的保護作用 | K11: 700000 | L11: 700000 | M11: 112/04/01 | N11: 113/03/31 | O11: F-企業 | P11: A3,B1,C | Q11: 2
A12: HK111-125 | B12: 112 | C12: 111 | D12: 民生創新學院 | E12: 食科系 | F12: 林麗雲 | H12: 產學合作研究計畫 | I12: 臺中市農業創生協會 | J12: 紅酒品質精進提升計畫 | K12: 60000 | L12: 60000 | M12: 112/03/01 | N12: 112/12/31 | O12: H-其他 | P12: A4,A5 | Q12: 2
A13: HK111-127 | B13: 112 | C13: 111 | D13: 民生創新學院 | E13: 食科系 | F13: 陳玉舜 | G13: 陳俊曄 | H13: 產學合作研究計畫 | I13: 融燁食品有限公司 | J13: 藥食同源牛樟芝及蟲草調理產品開發 | K13: 100000 | L13: 100000 | M13: 112/03/10 | N13: 113/03/10 | O13: F-企業 | P13: A4,B4 | Q13: 無
A14: HK111-133 | B14: 112 | C14: 111 | D14: 民生創新學院 | E14: 食科系 | F14: 楊智偉 | G14: 李菁菁 | H14: 產學合作研究計畫 | I14: TOTUS HK LTD | J14: 亞洲區烘焙技術知識傳遞與人才育成 | K14: 160000 | L14: 160000 | M14: 112/04/01 | N14: 113/12/31 | O14: F-企業 | P14: B5 | Q14: 無
A15: HK111-137 | B15: 112 | C15: 111 | D15: 民生創新學院 | E15: 食科系 | F15: 陳玉舜 | G15: 陳俊曄 | H15: 產學合作研究計畫 | I15: 博世德有限公司 | J15: 機能性蜂蜜系列保健產品研發 | K15: 100000 | L15: 100000 | M15: 112/03/10 | N15: 113/03/10 | O15: F-企業 | P15: A4,B6 | Q15: 無
A16: HK111-142 | B16: 112 | C16: 111 | D16: 民生創新學院 | E16: 食科系 | F16: 楊智偉 | G16: 呂淑芬、李菁菁 | H16: 產學合作研究計畫 | I16: 元寶食品股份有限公司 | J16: 2023烘焙知識傳遞與人才培育 | K16: 50000 | L16: 50000 | M16: 112/02/01 | N16: 112/12/31 | O16: F-企業 | P16: B1 | Q16: 無
A17: HK111-156 | B17: 112 | C17: 111 | D17: 民生創新學院 | E17: 食科系 | F17: 黃進發 | H17: 產學合作研究計畫 | I17: 禮晏生物科技股份有限公司 | J17: 微生物發酵與回收試驗 | K17: 50000 | L17: 50000 | M17: 112/05/01 | N17: 114/04/30 | O17: F-企業 | P17: A4,B5 | Q17: 2
A18: HK111-161 | B18: 112 | C18: 111 | D18: 民生創新學院 | E18: 食科系 | F18: 陳俊曄 | G18: 王瑞蓮 | H18: 產學合作研究計畫 | I18: 聚陽食品工廠 | J18: 團膳食物之品質分析(II) | K18: 50000 | L18: 50000 | M18: 112/05/21 | N18: 113/05/20 | O18: F-企業 | P18: A3,A4,A5,B1 | Q18: 無
A19: HK111-166 | B19: 112 | C19: 111 | D19: 民生創新學院 | E19: 食科系 | F19: 林麗雲 | G19: 吳武憲 | H19: 產學合作研究計畫 | I19: 臺中市石岡區農會 | J19: 柑茶加值化加工 | K19: 100000 | L19: 100000 | M19: 112/05/01 | N19: 112/12/31 | O19: H-其他 | P19: A1,A4 | Q19: 2
A20: HK111-169 | B20: 112 | C20: 111 | D20: 民生創新學院 | E20: 食科系 | F20: 陳玉舜 | G20: 陳俊曄 | H20: 產學合作研究計畫 | I20: 數位經濟國際股份有限公司 | J20: 中小型企業數位化及ESG雙轉型人才訓練與實務研討會 | K20: 100000 | L20: 100000 | M20: 112/06/15 | N20: 113/12/31 | O20: F-企業 | P20: B2,B5 | Q20: 2
A21: HK111-170 | B21: 112 | C21: 111 | D21: 民生創新學院 | E21: 食科系 | F21: 陳玉舜 | G21: 陳俊曄 | H21: 產學合作研究計畫 | I21: 思蔻比企業社 | J21: 真菌及益生菌發酵液試量產及真菌毒素分析 | K21: 300000 | L21: 300000 | M21: 112/07/01 | N21: 114/06/30 | O21: F-企業 | P21: A4,B4 | Q21: 2
A22: HK111-180 | B22: 112 | C22: 111 | D22: 民生創新學院 | E22: 食科系 | F22: 黃志雄 | H22: 產學合作研究計畫 | I22: 東昇時尚烘焙坊 | J22: 烘焙產品研發 | K22: 400000 | L22: 400000 | M22: 112/07/01 | N22: 112/12/31 | O22: F-企業 | P22: A4,B6 | Q22: 無
A23: HK111-182 | B23: 112 | C23: 111 | D23: 民生創新學院 | E23: 食科系 | F23: 林麗雲 | H23: 產學合作研究計畫 | I23: 財團法人台灣優良農產品發展協會 | J23: 112年度食品工廠衛生管理人員訓練班及112年度農產品加工製程暨衛生安全訓練班 | K23: 240000 | L23: 240000 | M23: 112/06/20 | N23: 112/12/01 | O23: H-其他 | P23: A4,A5,B2,B4,B5 | Q23: 無
A24: HK111-186 | B24: 112 | C24: 111 | D24: 民生創新學院 | E24: 食科系 | F24: 陳俊曄 | H24: 產學合作研究計畫 | I24: 吉米食品有限公司 | J24: 團膳食物之品質分析(II) | K24: 200000 | L24: 200000 | M24: 112/07/21 | N24: 113/07/20 | O24: F-企業 | P24: A3,A4,B1 | Q24: 無
A25: HK111-190 | B25: 112 | C25: 111 | D25: 民生創新學院 | E25: 食科系 | F25: 吳武憲 | G25: 林麗雲 | H25: 產學合作研究計畫 | I25: 信義鄉農會 | J25: 梅子歐包研發及生產 | K25: 300000 | L25: 300000 | M25: 112/06/01 | N25: 112/12/31 | O25: H-其他 | P25: A1,A3,A4 | Q25: 3
A26: HK112-001 | B26: 112 | C26: 112 | D26: 民生創新學院 | E26: 食科系 | F26: 林麗雲 | H26: 產學合作研究計畫 | I26: 葡萄王生技股份有限公司 | J26: 主導性高纖高蛋白真菌未來肉之研發之委託研究-推廣活動計畫 | K26: 170000 | L26: 170000 | M26: 112/10/01 | N26: 112/12/31 | O26: F-企業 | P26: A9,B6 | Q26: 4
A27: HK112-003 | B27: 112 | C27: 112 | D27: 民生創新學院 | E27: 食科系 | F27: 蔡政志 | H27: 產學合作研究計畫 | I27: 原生生物醫學股份有限公司 | J27: 淨萃樂產品排除三氧化二砷細胞試驗與人體試驗申請前置作業 | K27: 600000 | L27: 600000 | M27: 112/08/01 | N27: 113/07/31 | O27: F-企業 | P27: A1,B6 | Q27: 無
A28: HK112-007 | B28: 112 | C28: 112 | D28: 民生創新學院 | E28: 食科系 | F28: 林麗雲 | G28: 莊正宏 | H28: 產學合作研究計畫 | I28: 侑芳食品廠 | J28: 餐盒營養調配與衛生管理 | K28: 200000 | L28: 200000 | M28: 112/08/01 | N28: 113/12/31 | O28: F-企業 | P28: A3,A4,A5,B5 | Q28: 2
A29: HK112-009 | B29: 112 | C29: 112 | D29: 民生創新學院 | E29: 食科系 | F29: 黃至盛 | G29: 柯耀筆 | H29: 產學合作研究計畫 | I29: 萬味軒食品工業股份有限公司 | J29: 製程輔導改善與分析之研究 | K29: 350000 | L29: 350000 | M29: 112/08/01 | N29: 114/05/31 | O29: F-企業 | P29: B6 | Q29: 4
A30: HK112-022 | B30: 112 | C30: 112 | D30: 民生創新學院 | E30: 食科系 | F30: 林麗雲 | H30: 產學合作研究計畫 | I30: 永鮮食品有限公司 | J30: 廚房衛生輔導與管理 | K30: 40000 | L30: 40000 | M30: 112/08/15 | N30: 112/12/31 | O30: F-企業 | P30: A1,A3,A4 | Q30: 2
A31: HK112-030 | B31: 112 | C31: 112 | D31: 民生創新學院 | E31: 食科系 | F31: 林麗雲 | H31: 產學合作研究計畫 | I31: 臺中市直轄市酒類商業同業公會 | J31: 臺中市製酒業者酒品產製技術及品質管控教育訓練計畫 | K31: 80000 | L31: 80000 | M31: 112/09/01 | N31: 112/12/31 | O31: H-其他 | P31: B2,B4,B5 | Q31: 2
A32: HK112-035 | B32: 112 | C32: 112 | D32: 民生創新學院 | E32: 食科系 | F32: 陳玉舜 | G32: 謝東呈 | H32: 產學合作研究計畫 | I32: 石川乳酪生技有限公司 | J32: 乳清胜肽技術研發及應用產品開發 | K32: 250000 | L32: 250000 | M32: 112/08/01 | N32: 113/05/31 | O32: F-企業 | P32: A1,A4 | Q32: 6
A33: HK112-069 | B33: 112 | C33: 112 | D33: 民生創新學院 | E33: 食科系 | F33: 林麗雲 | H33: 產學合作研究計畫 | I33: 臺中市石岡區農會 | J33: 112年度臺中市石岡區乾柑橘水梨加工加值開發及發表行銷計畫 | K33: 300000 | L33: 300000 | M33: 112/09/01 | N33: 112/12/31 | O33: H-其他 | P33: A4,A9 | Q33: 2
A34: HK112-071 | B34: 112 | C34: 112 | D34: 民生創新學院 | E34: 食科系 | F34: 柯耀筆 | G34: 黃至盛 楊智偉 蔡君逸 王堯天 | H34: 產學合作研究計畫 | I34: 華元食品股份有限公司 | J34: 馬鈴薯及馬鈴薯粉檢測還原醣分析之研究 | K34: 110000 | L34: 110000 | M34: 112/11/01 | N34: 115/10/31 | O34: F-企業 | P34: A3,A4,B1,B5 | Q34: 2
A35: HK112-083 | B35: 112 | C35: 112 | D35: 民生創新學院 | E35: 食科系 | F35: 林麗雲 | G35: 黃汶達 | H35: 產學合作研究計畫 | I35: 榮合食品股份有限公司 | J35: 常溫非即食食品欄柵技術應用 | K35: 350000 | L35: 350000 | M35: 112/10/01 | N35: 113/09/30 | O35: F-企業 | P35: A3,A4,B5 | Q35: 8
A36: HK112-086 | B36: 112 | C36: 112 | D36: 民生創新學院 | E36: 食科系 | F36: 黃至盛 | G36: 柯耀筆 陳俊曄 | H36: 產學合作研究計畫 | I36: 鼎香風國際企業有限公司 | J36: 製程改善與分析之研究 | K36: 50000 | L36: 50000 | M36: 112/11/15 | N36: 114/03/31 | O36: F-企業 | P36: A3 | Q36: 1
A37: HK112-098 | B37: 112 | C37: 112 | D37: 民生創新學院 | E37: 食科系 | F37: 林麗雲 | H37: 產學合作研究計畫 | I37: 三松食品實業有限公司 | J37: 食品原料安全性評估與衛生輔導 | K37: 50000 | L37: 50000 | M37: 112/11/20 | N37: 113/12/31 | O37: F-企業 | P37: A4,B5 | Q37: 無
A38: HK112-116 | B38: 112 | C38: 112 | D38: 民生創新學院 | E38: 食科系 | F38: 程國恩 | H38: 產學合作研究計畫 | I38: 佳宥鑫股份有限公司 | J38: 巧克力產品研發與應用 | K38: 100000 | L38: 100000 | M38: 112/12/15 | N38: 113/06/15 | O38: F-企業 | P38: A3,A4,A5,B5 | Q38: 2
A39: HK112-118 | B39: 112 | C39: 112 | D39: 民生創新學院 | E39: 食科系 | F39: 林麗雲 | G39: 吳武憲 | H39: 產學合作研究計畫 | I39: 霧峰區農會 | J39: 112年度龍眼乾多元加工廠商(歐包、酒及茶飲品)開發計畫 | K39: 600000 | L39: 600000 | M39: 112/11/01 | N39: 113/08/31 | O39: H-其他 | P39: A1,A4 | Q39: 6
A43: 承辦人核章: 單位主管核章: 院長核章:

Sheet 英語系
A1: 計畫編號 | B1: 年度 | C1: 學年度 | D1: 學院 | E1: 系科別 | F1: 主持人 | G1: 共(協)同主持人 | H1: 類別 | I1: 委託單位 | J1: 計畫名稱 | K1: 廠商 補助款 | L1: 總經費 | M1: 開始日期 | N1: 結束日期 | O1: F-企業 H-其他 | P1: 計畫性質 | Q1: 預計培育人數 | R1: 實際培育人數
A2: HK111-095 | B2: 112 | C2: 111 | D2: 民生創新學院 | E2: 英語系 | F2: 蔡智欣 | G2: 鄭景媚 陳美伶 | H2: 產學合作研究計畫 | I2: 臺中市私立文詣文理短期補習班 | J2: 英語教學產業人才培訓產學合作計畫(十一) | K2: 130570 | L2: 130570 | M2: 112/01/01 | N2: 112/06/30 | O2: H-其他 | P2: B1 | Q2: 1
A3: HK111-151 | B3: 112 | C3: 111 | D3: 民生創新學院 | E3: 英語系 | F3: 陳美伶 | H3: 產學合作研究計畫 | I3: 人才天下有限公司 | J3: 國際會議接待人才培育計畫 | K3: 29064 | L3: 29064 | M3: 112/04/26 | N3: 112/06/15 | O3: H-其他 | P3: B1,B5 | Q3: 11
A4: HK112-045 | B4: 112 | C4: 112 | D4: 民生創新學院 | E4: 英語系 | F4: 蔡智欣 | G4: 鄭景媚 陳美伶 | H4: 產學合作研究計畫 | I4: 敬荏文教事業有限公司附設臺中市私立文詣文理短期補習班 | J4: 英語教學產業人才培訓產學合作計畫(十二) | K4: 132545 | L4: 132545 | M4: 112/10/01 | N4: 113/01/31 | O4: H-其他 | P4: B1 | Q4: 2
A9: 承辦人核章: 單位主管核章: 院長核章:

Sheet 美髮系
A1: 計畫編號 | B1: 年度 | C1: 學年度 | D1: 學院 | E1: 系科別 | F1: 主持人 | G1: 共(協)同主持人 | H1: 類別 | I1: 委託單位 | J1: 計畫名稱 | K1: 廠商 補助款 | L1: 總經費 | M1: 開始日期 | N1: 結束日期 | O1: F-企業 H-其他 | P1: 計畫性質 | Q1: 預計培育人數 | R1: 實際培育人數
A2: HK111-129 | B2: 112 | C2: 111 | D2: 民生創新學院 | E2: 美髮系 | F2: 廖晏伶 | H2: 產學合作研究計畫 | I2: 樂澄國際髮品企業社 | J2: 剪髮基礎教育規劃 | K2: 20000 | L2: 20000 | M2: 112/04/01 | N2: 113/03/31 | O2: F-企業 | P2: A5 | Q2: 無
A3: HK111-145 | B3: 112 | C3: 111 | D3: 民生創新學院 | E3: 美髮系 | F3: 邱蕙琳 | H3: 產學合作研究計畫 | I3: 私立彩田美術技藝短期補習班 | J3: 美術教材研發第1期產學合作計畫 | K3: 100000 | L3: 100000 | M3: 112/04/01 | N3: 113/03/31 | O3: H-其他 | P3: A5,B1 | Q3: 無
A4: HK111-146 | B4: 112 | C4: 111 | D4: 民生創新學院 | E4: 美髮系 | F4: 陳佳惠 | G4: 高藤彩麗 | H4: 產學合作研究計畫 | I4: 舞踊知家有限公司 | J4: 舞踊知家日本浴衣文化髮型造型產學合作計畫 | K4: 100000 | L4: 100000 | M4: 112/02/17 | N4: 113/07/30 | O4: F-企業 | P4: A4,B1 | Q4: 20
A5: HK111-154 | B5: 112 | C5: 111 | D5: 民生創新學院 | E5: 美髮系 | F5: 呂佩芸 | H5: 產學合作研究計畫 | I5: 有機模式有限公司 | J5: 頭皮管理師培訓計畫 | K5: 110000 | L5: 110000 | M5: 112/04/10 | N5: 112/12/30 | O5: F-企業 | P5: A4,B5 | Q5: 10
A6: HK111-157 | B6: 112 | C6: 111 | D6: 民生創新學院 | E6: 美髮系 | F6: 呂佩芸 | G6: 張聰民 | H6: 產學合作研究計畫 | I6: 麗絲美粧國際有限公司 | J6: 頭皮管理師專業培訓計畫 | K6: 110000 | L6: 110000 | M6: 112/04/10 | N6: 112/12/30 | O6: F-企業 | P6: A4,B5 | Q6: 10
A7: HK111-191 | B7: 112 | C7: 111 | D7: 民生創新學院 | E7: 美髮系 | F7: 陳佳惠 | H7: 產學合作研究計畫 | I7: 鉅麗富達生物科技股份有限公司 | J7: 頭皮管理師培訓人才產學合作案 | K7: 100000 | L7: 100000 | M7: 112/07/01 | N7: 113/07/31 | O7: F-企業 | P7: A1,B1,B4,B5 | Q7: 3
A8: HK112-012 | B8: 112 | C8: 112 | D8: 民生創新學院 | E8: 美髮系 | F8: 張聰民 | H8: 產學合作研究計畫 | I8: 朕雍實業有限公司 | J8: Eir艾伊爾瞬效緊緻水潤面膜產品功效評估計畫 | K8: 148000 | L8: 148000 | M8: 112/08/14 | N8: 113/02/14 | O8: F-企業 | P8: A3,B1,B5 | Q8: 3
A9: HK112-013 | B9: 112 | C9: 112 | D9: 民生創新學院 | E9: 美髮系 | F9: 馬惠君 | H9: 產學合作研究計畫 | I9: 美科實業股份有限公司 | J9: 頭皮理療影像資料庫之建置 | K9: 420000 | L9: 420000 | M9: 112/08/05 | N9: 113/09/30 | O9: F-企業 | P9: A1,A3,B4 | Q9: 6
A10: HK112-020 | B10: 112 | C10: 112 | D10: 民生創新學院 | E10: 美髮系 | F10: 張聰民 | H10: 產學合作研究計畫 | I10: 台灣曼秀雷敦股份有限公司 | J10: 台灣曼秀雷敦產品(Hada-Labo Gokujyun Premium Essence//肌研極潤金緻高效保濕精華液、Melano CC Essence/ Melano CC高純度維他命C亮白精華、Melano CC Premium Essence/Melano CC維他命C全效美白淡斑精華)皮膚保養功效評估計畫 | K10: 450000 | L10: 450000 | M10: 112/08/18 | N10: 113/08/17 | O10: F-企業 | P10: A3,B1,B5 | Q10: 3
A11: HK112-036 | B11: 112 | C11: 112 | D11: 民生創新學院 | E11: 美髮系 | F11: 張聰民 | H11: 產學合作研究計畫 | I11: 維妮雅企業股份有限公司 | J11: 賦活靈芝抗老修護精華乳(Ganoderma anti-aging & repairing advanced emulsion)產品功效評估計畫 | K11: 200000 | L11: 200000 | M11: 112/09/15 | N11: 113/03/31 | O11: F-企業 | P11: A3,B1,B5 | Q11: 1
A12: HK112-037 | B12: 112 | C12: 112 | D12: 民生創新學院 | E12: 美髮系 | F12: 張聰民 | H12: 產學合作研究計畫 | I12: 研大國際有限公司 | J12: 富勒烯逆齡賦活精華乳(Fullerene Anti-Aging Renewing Emulsion)產品功效評估計畫 | K12: 150000 | L12: 150000 | M12: 112/09/19 | N12: 113/03/31 | O12: F-企業 | P12: A3,B1,B5 | Q12: 1
A13: HK112-062 | B13: 112 | C13: 112 | D13: 民生創新學院 | E13: 美髮系 | F13: 呂佩芸 | H13: 產學合作研究計畫 | I13: 麗絲美粧國際有限公司 | J13: 髮型設計師培訓計畫 | K13: 100000 | L13: 100000 | M13: 112/09/10 | N13: 113/08/31 | O13: F-企業 | P13: A4,B1,B5 | Q13: 無
A14: HK112-068 | B14: 112 | C14: 112 | D14: 民生創新學院 | E14: 美髮系 | F14: 呂佩芸 | H14: 產學合作研究計畫 | I14: 明日湘企業有限公司 | J14: 頭皮康養與管理培訓 | K14: 27500 | L14: 27500 | M14: 112/10/16 | N14: 112/12/31 | O14: F-企業 | P14: A4,B5 | Q14: 無
A15: HK112-080 | B15: 112 | C15: 112 | D15: 民生創新學院 | E15: 美髮系 | F15: 洪煒智 | H15: 產學合作研究計畫 | I15: 唯美快速剪髮屋 | J15: 經典髮型實務與應用 | K15: 200000 | L15: 200000 | M15: 112/11/01 | N15: 113/08/31 | O15: F-企業 | P15: A4,B1 | Q15: 無
A16: HK112-091 | B16: 112 | C16: 112 | D16: 民生創新學院 | E16: 美髮系 | F16: 張聰民 | H16: 產學合作研究計畫 | I16: 京漾生技事業股份有限公司 | J16: 化妝品產品微生物抗菌測試及檢驗分析計畫II | K16: 100000 | L16: 100000 | M16: 112/11/17 | N16: 113/11/16 | O16: F-企業 | P16: A3,B1,B5 | Q16: 1
A17: HK112-097 | B17: 112 | C17: 112 | D17: 民生創新學院 | E17: 美髮系 | F17: 黃翠如 | H17: 產學合作研究計畫 | I17: 獨占興業有限公司 | J17: 不盲燙實務應用 | K17: 200000 | L17: 200000 | M17: 112/11/20 | N17: 113/07/31 | O17: F-企業 | P17: A4,B1 | Q17: 無
A18: HK112-099 | B18: 112 | C18: 112 | D18: 民生創新學院 | E18: 美髮系 | F18: 張聰民 | H18: 產學合作研究計畫 | I18: 福又達生物科技股份有限公司 | J18: 探討積雪草外泌體的皮膚保養功效與分子作用機制研究計畫 | K18: 1500000 | L18: 1500000 | M18: 112/12/06 | N18: 113/12/05 | O18: F-企業 | P18: A3,B1,B5 | Q18: 1
A19: HK112-103 | B19: 112 | C19: 112 | D19: 民生創新學院 | E19: 美髮系 | F19: 張聰民 | H19: 產學合作研究計畫 | I19: 塞席爾商美之本國際有限公司台灣分公司 | J19: 茶樹抗痘遮瑕膏、神經醯胺保濕舒芙蕾(品名待定)兩種產品人體皮膚保養功效評估計畫 | K19: 320000 | L19: 320000 | M19: 112/11/23 | N19: 113/11/22 | O19: F-企業 | P19: A3,B1,B5 | Q19: 1
A20: HK112-127 | B20: 112 | C20: 112 | D20: 民生創新學院 | E20: 美髮系 | F20: 張聰民 | H20: 產學合作研究計畫 | I20: 台灣曼秀雷敦股份有限公司 | J20: 台灣曼秀雷敦產品(Hada-Labo Shirojyun Lotion/肌研白潤美白化妝水、Hada-Labo Shirojyun Lotion Moist/肌研白潤美白化妝水-潤澤型、Hada-Labo Shirojyun Milk/肌研白潤美白乳液)皮膚保養功效評估計畫 | K20: 450000 | L20: 450000 | M20: 112/12/19 | N20: 113/12/18 | O20: F-企業 | P20: A3,B1,B5 | Q20: 1
A25: 承辦人核章: 單位主管核章: 院長核章:

Sheet 妝品系
A1: 計畫編號 | B1: 年度 | C1: 學年度 | D1: 學院 | E1: 系科別 | F1: 主持人 | G1: 共(協)同主持人 | H1: 類別 | I1: 委託單位 | J1: 計畫名稱 | K1: 廠商 補助款 | L1: 總經費 | M1: 開始日期 | N1: 結束日期 | O1: F-企業 H-其他 | P1: 計畫性質 | Q1: 預計培育人數 | R1: 實際培育人數
A2: HK111-096 | B2: 112 | C2: 111 | D2: 民生創新學院 | E2: 妝品系 | F2: 許慈芳 | H2: 產學合作研究計畫 | I2: 沂水創意行銷顧問有限公司 | J2: 資生堂紅妍股活系列功效評估計畫 | K2: 230000 | L2: 230000 | M2: 112/01/01 | N2: 112/08/30 | O2: F-企業 | P2: A3 | Q2: 2
A3: HK111-115 | B3: 112 | C3: 111 | D3: 民生創新學院 | E3: 妝品系 | F3: 易光輝 | G3: 王曉芬 | H3: 產學合作研究計畫 | I3: 軒郁國際股份有限公司 | J3: 防曬精油組成物之瑞士日內瓦發明展競賽 | K3: 270593 | L3: 270593 | M3: 112/03/01 | N3: 113/02/28 | O3: F-企業 | P3: A1 | Q3: 無
A4: HK111-123 | B4: 112 | C4: 111 | D4: 民生創新學院 | E4: 妝品系 | F4: 歐明秋 | H4: 產學合作研究計畫 | I4: 麗多化粧品股份有限公司 | J4: 質感香水調製研習 | K4: 20000 | L4: 20000 | M4: 112/03/01 | N4: 112/05/31 | O4: F-企業 | P4: B2 | Q4: 9
A5: HK111-126 | B5: 112 | C5: 111 | D5: 民生創新學院 | E5: 妝品系 | F5: 張聰民 | H5: 產學合作研究計畫 | I5: 艾萬霖生技股份有限公司 | J5: 初髮本液(ExoHair Essence)人體頭部保養功效評估計畫 | K5: 600000 | L5: 600000 | M5: 112/03/14 | N5: 112/08/31 | O5: F-企業 | P5: A3,B1 | Q5: 無
A6: HK111-131 | B6: 112 | C6: 111 | D6: 民生創新學院 | E6: 妝品系 | F6: 李珮琪 | G6: 陳明仁 | H6: 產學合作研究計畫 | I6: 綠藤生物科技股份有限公司 | J6: 化妝品產品安全資料表製作 | K6: 48000 | L6: 48000 | M6: 112/03/15 | N6: 112/06/30 | O6: F-企業 | P6: A4 | Q6: 無
A7: HK111-135 | B7: 112 | C7: 111 | D7: 民生創新學院 | E7: 妝品系 | F7: 陳明仁 | H7: 產學合作研究計畫 | I7: 全球昕兆國際股份有限公司 | J7: 81酵素去黑頭潔顏露之功效性評估 | K7: 161500 | L7: 161500 | M7: 112/03/15 | N7: 112/09/30 | O7: F-企業 | P7: A3 | Q7: 1
A8: HK111-149 | B8: 112 | C8: 111 | D8: 民生創新學院 | E8: 妝品系 | F8: 陳明仁 | H8: 產學合作研究計畫 | I8: 沐信生化科技有限司 | J8: 帕拉斯全方位能量乳霜之功效性評估 | K8: 163000 | L8: 163000 | M8: 112/05/01 | N8: 113/04/30 | O8: F-企業 | P8: A3 | Q8: 1
A9: HK111-167 | B9: 112 | C9: 111 | D9: 民生創新學院 | E9: 妝品系 | F9: 易光輝 | G9: 王曉芬 | H9: 產學合作研究計畫 | I9: 使之覺醒生化科技有限公司 | J9: 以GC/MS檢測精油全成分之研究 | K9: 3000 | L9: 3000 | M9: 112/05/10 | N9: 112/12/09 | O9: F-企業 | P9: A3 | Q9: 無
A10: HK111-168 | B10: 112 | C10: 111 | D10: 民生創新學院 | E10: 妝品系 | F10: 詹錦豐 | H10: 產學合作研究計畫 | I10: 雨利行生化科技實業有限公司 | J10: 棕梠酰四胜肽共軛銀奈米顆粒的理化性、總生菌數與經皮吸收檢測 | K10: 200000 | L10: 200000 | M10: 112/05/20 | N10: 113/03/31 | O10: F-企業 | P10: A3 | Q10: 5
A11: HK111-171 | B11: 112 | C11: 111 | D11: 民生創新學院 | E11: 妝品系 | F11: 許慈芳 | H11: 產學合作研究計畫 | I11: 香港商比丹國際有限公司台灣分公司 | J11: 比丹國際第二期品牌商品開發計畫 | K11: 115000 | L11: 115000 | M11: 112/05/01 | N11: 112/10/31 | O11: F-企業 | P11: A5 | Q11: 2
A12: HK111-185 | B12: 112 | C12: 111 | D12: 民生創新學院 | E12: 妝品系 | F12: 許慈芳 | G12: 葉明珍 宋琇鈺 | H12: 產學合作研究計畫 | I12: 大江生醫股份有限公司 | J12: MAXI膠原飲之補充於人體肌膚功效性評估 | K12: 1530100 | L12: 1530100 | M12: 112/07/01 | N12: 113/04/30 | O12: F-企業 | P12: A3 | Q12: 6
A13: HK112-006 | B13: 112 | C13: 112 | D13: 民生創新學院 | E13: 妝品系 | F13: 陳明仁 | H13: 產學合作研究計畫 | I13: 川生技股份有限公司 | J13: 極地緊緻六胜肽保濕抗老乳霜之功效性評估 | K13: 176000 | L13: 176000 | M13: 112/08/01 | N13: 113/01/31 | O13: F-企業 | P13: A3 | Q13: 1
A14: HK112-008 | B14: 112 | C14: 112 | D14: 民生創新學院 | E14: 妝品系 | F14: 易光輝 | G14: 王曉芬 | H14: 產學合作研究計畫 | I14: 軒郁國際股份有限公司 | J14: 植物萃取分析與精油成分檢測和功效性實驗之研究 | K14: 150000 | L14: 150000 | M14: 112/08/01 | N14: 117/07/31 | O14: F-企業 | P14: A1 | Q14: 無
A15: HK112-011 | B15: 112 | C15: 112 | D15: 民生創新學院 | E15: 妝品系 | F15: 陳明仁 | H15: 產學合作研究計畫 | I15: 研就有限公司 | J15: 3W超胜肽生物纖維面膜之功效性評估 | K15: 187000 | L15: 187000 | M15: 112/08/01 | N15: 113/01/31 | O15: F-企業 | P15: A3 | Q15: 1
A16: HK112-015 | B16: 112 | C16: 112 | D16: 民生創新學院 | E16: 妝品系 | F16: 許慈芳 | G16: 李珮琪 | H16: 產學合作研究計畫 | I16: 丞禧美覺有限公司 | J16: Ni-SOD商品化開發及人體臨床試驗計畫 | K16: 330000 | L16: 330000 | M16: 112/08/01 | N16: 113/04/30 | O16: F-企業 | P16: A1,A3,A4 | Q16: 3
A17: HK112-019 | B17: 112 | C17: 112 | D17: 民生創新學院 | E17: 妝品系 | F17: 易光輝 | G17: 王曉芬 | H17: 產學合作研究計畫 | I17: 使之覺醒生化科技有限公司 | J17: 以GC/MS檢測精油全成分之研究(五) | K17: 234000 | L17: 234000 | M17: 112/09/01 | N17: 115/08/31 | O17: F-企業 | P17: A3 | Q17: 無
A18: HK112-025 | B18: 112 | C18: 112 | D18: 民生創新學院 | E18: 妝品系 | F18: 王曉芬 | G18: 易光輝 | H18: 產學合作研究計畫 | I18: 軒郁國際股份有限公司 | J18: 美白精油與防曬精油組成物之作品參與韓國發明展競賽 | K18: 221764 | L18: 221764 | M18: 112/09/01 | N18: 113/08/31 | O18: F-企業 | P18: A4 | Q18: 無
A19: HK112-026 | B19: 112 | C19: 112 | D19: 民生創新學院 | E19: 妝品系 | F19: 詹錦豐 | H19: 產學合作研究計畫 | I19: 集創立科技有限公司 | J19: Luxe Plus皮膚美容功效檢測備又問卷評估 | K19: 280000 | L19: 280000 | M19: 112/08/01 | N19: 112/12/31 | O19: F-企業 | P19: A3 | Q19: 5
A20: HK112-028 | B20: 112 | C20: 112 | D20: 民生創新學院 | E20: 妝品系 | F20: 易光輝 | G20: 王曉芬 | H20: 產學合作研究計畫 | I20: 英英咖啡工坊 | J20: 以GC/MS檢測真柏純露成分分析 | K20: 9200 | L20: 9200 | M20: 112/08/30 | N20: 113/03/30 | O20: F-企業 | P20: A3 | Q20: 無
A21: HK112-034 | B21: 112 | C21: 112 | D21: 民生創新學院 | E21: 妝品系 | F21: 王曉芬 | G21: 易光輝 | H21: 產學合作研究計畫 | I21: 軒郁國際股份有限公司 | J21: 艾草萃取分析與功效性研究計畫 | K21: 519750 | L21: 519750 | M21: 112/10/01 | N21: 113/09/30 | O21: F-企業 | P21: A4 | Q21: 無
A22: HK112-039 | B22: 112 | C22: 112 | D22: 民生創新學院 | E22: 妝品系 | F22: 王曉芬 | G22: 易光輝 | H22: 產學合作研究計畫 | I22: 全球昕兆國際股份有限公司 | J22: 81酵母雙萃緊緻精華(含51%二裂酵母)之人體有效性研究 | K22: 180000 | L22: 180000 | M22: 112/09/10 | N22: 113/09/09 | O22: F-企業 | P22: A4 | Q22: 無
A23: HK112-059 | B23: 112 | C23: 112 | D23: 民生創新學院 | E23: 妝品系 | F23: 歐明秋 | H23: 產學合作研究計畫 | I23: 社團法人台中市東區東英社區發展協會 | J23: 香草奇緣-精油防蚊液調製開發 | K23: 16500 | L23: 16500 | M23: 112/10/01 | N23: 113/01/31 | O23: H-其他 | P23: A5 | Q23: 4
A24: HK112-082 | B24: 112 | C24: 112 | D24: 民生創新學院 | E24: 妝品系 | F24: 王曉芬 | G24: 易光輝 | H24: 產學合作研究計畫 | I24: 軒郁國際股份有限公司 | J24: 美白精油組合物及其應用與防晒精油組合物之專利作品參與波蘭華沙發明展競賽 | K24: 346390 | L24: 346390 | M24: 112/11/20 | N24: 113/11/19 | O24: F-企業 | P24: A4 | Q24: 無
A25: HK112-092 | B25: 112 | C25: 112 | D25: 民生創新學院 | E25: 妝品系 | F25: 李珮琪 | H25: 產學合作研究計畫 | I25: 瑞元生醫股份有限公司 | J25: 水凝膠之化妝品應用諮詢輔導顧問計畫 | K25: 360000 | L25: 360000 | M25: 112/12/01 | N25: 113/11/30 | O25: F-企業 | P25: A5 | Q25: 無
A26: HK112-093 | B26: 112 | C26: 112 | D26: 民生創新學院 | E26: 妝品系 | F26: 李珮琪 | H26: 產學合作研究計畫 | I26: 瑞元生醫股份有限公司 | J26: IPMP與GA之於Hydrogel的經皮吸收效力分析 | K26: 77000 | L26: 77000 | M26: 112/12/16 | N26: 113/08/31 | O26: F-企業 | P26: A5 | Q26: 無
A27: HK112-106 | B27: 112 | C27: 112 | D27: 民生創新學院 | E27: 妝品系 | F27: 詹錦豐 | H27: 產學合作研究計畫 | I27: 益美化工實業股份有限公司 | J27: 化妝品防腐效能測試 | K27: 90000 | L27: 90000 | M27: 112/12/01 | N27: 113/11/30 | O27: F-企業 | P27: A3 | Q27: 5
A28: HK112-107 | B28: 112 | C28: 112 | D28: 民生創新學院 | E28: 妝品系 | F28: 李珮琪 | H28: 產學合作研究計畫 | I28: 益美化工實業股份有限公司 | J28: 防曬係數檢測服務 | K28: 50000 | L28: 50000 | M28: 112/12/01 | N28: 113/11/30 | O28: F-企業 | P28: A3 | Q28: 無
A29: HK112-110 | B29: 112 | C29: 112 | D29: 民生創新學院 | E29: 妝品系 | F29: 歐明秋 | H29: 產學合作研究計畫 | I29: IMONI國際美業職能發展協會 | J29: 香氛製品開發 | K29: 34000 | L29: 34000 | M29: 112/11/20 | N29: 113/04/30 | O29: H-其他 | P29: A5 | Q29: 4
A30: HK112-122 | B30: 112 | C30: 112 | D30: 民生創新學院 | E30: 妝品系 | F30: 許慈芳 | H30: 產學合作研究計畫 | I30: 香港商比丹國際有限公司台灣分公司 | J30: 比丹國際第三期品牌商品開發計畫 | K30: 115000 | L30: 115000 | M30: 112/11/01 | N30: 113/04/30 | O30: F-企業 | P30: A5 | Q30: 2
A35: 承辦人核章: 單位主管核章: 院長核章:

Sheet 多遊系
A1: 計畫編號 | B1: 年度 | C1: 學年度 | D1: 學院 | E1: 系科別 | F1: 主持人 | G1: 共(協)同主持人 | H1: 類別 | I1: 委託單位 | J1: 計畫名稱 | K1: 廠商 補助款 | L1: 總經費 | M1: 開始日期 | N1: 結束日期 | O1: F-企業 H-其他 | P1: 計畫性質 | Q1: 預計培育人數 | R1: 實際培育人數
A2: HK111-108 | B2: 112 | C2: 111 | D2: 民生創新學院 | E2: 多遊系 | F2: 林子堯 | H2: 產學合作研究計畫 | I2: 彰化第五信用合作社 | J2: 彰化第五信用合作社攝影與社群行銷教育學程計畫 | K2: 90000 | L2: 90000 | M2: 112/02/01 | N2: 112/04/30 | O2: H-其他 | P2: B1 | Q2: 4
A3: HK111-181 | B3: 112 | C3: 111 | D3: 民生創新學院 | E3: 多遊系 | F3: 黃建基 | G3: 游東晉 | H3: 產學合作研究計畫 | I3: 睿誌整合行銷傳播有限公司 | J3: 2023雲林縣電競派對轉播技術實務 | K3: 340000 | L3: 340000 | M3: 112/07/01 | N3: 112/12/31 | O3: F-企業 | P3: A4,B1 | Q3: 27
A4: HK112-048 | B4: 112 | C4: 112 | D4: 民生創新學院 | E4: 多遊系 | F4: 黃建基 | G4: 林子堯 | H4: 產學合作研究計畫 | I4: 傑恆數位股份有限公司 | J4: 2023CCCE城市盃數位科藝邀請賽轉播技術實務 | K4: 200000 | L4: 200000 | M4: 112/09/15 | N4: 41364 | O4: F-企業 | P4: A4,B1 | Q4: 20
A5: HK112-055 | B5: 112 | C5: 112 | D5: 民生創新學院 | E5: 多遊系 | F5: 鄭祺誠 | G5: 劉明昆 | H5: 產學合作研究計畫 | I5: 九藏喵窩有限公司 | J5: 女神試煉遊戲美術製作委託案 | K5: 180000 | L5: 180000 | M5: 112/10/01 | N5: 113/01/30 | O5: F-企業 | P5: A4,B5 | Q5: 12
A10: 承辦人核章: 單位主管核章: 院長核章:

Sheet 餐旅系
A1: 計畫編號 | B1: 年度 | C1: 學年度 | D1: 學院 | E1: 系科別 | F1: 主持人 | G1: 共(協)同主持人 | H1: 類別 | I1: 委託單位 | J1: 計畫名稱 | K1: 廠商 補助款 | L1: 總經費 | M1: 開始日期 | N1: 結束日期 | O1: F-企業 H-其他 | P1: 計畫性質 | Q1: 預計培育人數 | R1: 實際培育人數
A2: HK111-103 | B2: 112 | C2: 111 | D2: 民生創新學院 | E2: 餐旅系 | F2: 沈盈貝 | H2: 產學合作研究計畫 | I2: 台灣亞洲葡萄酒學會 | J2: 初階侍酒師證照培訓計畫 | K2: 75000 | L2: 75000 | M2: 112/01/01 | N2: 112/12/31 | O2: H-其他 | P2: B1 | Q2: 15
A3: HK111-118 | B3: 112 | C3: 111 | D3: 民生創新學院 | E3: 餐旅系 | F3: 吳松濂 | G3: 許凱敦 | H3: 產學合作研究計畫 | I3: 社團法人台灣兒童食育協會 | J3: 以食傳愛-以味傳家 | K3: 100000 | L3: 100000 | M3: 112/02/01 | N3: 112/05/30 | O3: H-其他 | P3: A4 | Q3: 12
A4: HK111-138 | B4: 112 | C4: 111 | D4: 民生創新學院 | E4: 餐旅系 | F4: 曾楷翔 | H4: 產學合作研究計畫 | I4: 蘭廷和牛專門店股份有限公司 | J4: 日本和牛品牌營運諮詢計畫 | K4: 60000 | L4: 60000 | M4: 112/03/01 | N4: 112/08/31 | O4: F-企業 | P4: A5,B6 | Q4: 無
A5: HK111-139 | B5: 112 | C5: 111 | D5: 民生創新學院 | E5: 餐旅系 | F5: 許素鈴 | G5: 林麗雲 | H5: 產學合作研究計畫 | I5: 財團法人台灣優良農產品發展協會 | J5: 112年財政部優質認證酒品品評競賽 | K5: 450000 | L5: 450000 | M5: 112/03/20 | N5: 112/11/30 | O5: H-其他 | P5: A4 | Q5: 無
A6: HK111-143 | B6: 112 | C6: 111 | D6: 民生創新學院 | E6: 餐旅系 | F6: 鄭錦慶 | H6: 產學合作研究計畫 | I6: 財團法人中衛發展中心 | J6: 112年產業發展加值輔導計畫-企業餐桌 | K6: 95000 | L6: 95000 | M6: 112/03/31 | N6: 112/06/30 | O6: H-其他 | P6: A4,A5,B1 | Q6: 無
A7: HK111-155 | B7: 112 | C7: 111 | D7: 民生創新學院 | E7: 餐旅系 | F7: 黃汶達 | H7: 產學合作研究計畫 | I7: 京丞資源國際有限公司 | J7: 112年「首惜廚師」臺中市初(複)賽 | K7: 80000 | L7: 80000 | M7: 112/05/01 | N7: 112/09/30 | O7: F-企業 | P7: A5,B4,B5 | Q7: 無
A8: HK111-164 | B8: 112 | C8: 111 | D8: 民生創新學院 | E8: 餐旅系 | F8: 黃汶達 | H8: 產學合作研究計畫 | I8: 台中市梧棲區農會 | J8: 母親節蛋糕之推廣 | K8: 41500 | L8: 41500 | M8: 112/05/01 | N8: 112/05/31 | O8: H-其他 | P8: A4,B6 | Q8: 無
A9: HK111-187 | B9: 112 | C9: 111 | D9: 民生創新學院 | E9: 餐旅系 | F9: 王志榮 | G9: 李芳 鄭宇眞 | H9: 產學合作研究計畫 | I9: 中聚國際開發有限公司 | J9: 台灣美食與瓷繪藝術饗宴 | K9: 108000 | L9: 108000 | M9: 112/07/01 | N9: 112/12/31 | O9: F-企業 | P9: B1 | Q9: 6
A10: HK112-004 | B10: 112 | C10: 112 | D10: 民生創新學院 | E10: 餐旅系 | F10: 葉佳山 | H10: 產學合作研究計畫 | I10: 晶華國際酒店股份有限公司 | J10: 企業學院攜手培育計畫 | K10: 100000 | L10: 100000 | M10: 112/08/01 | N10: 113/07/31 | O10: F-企業 | P10: B1,B5 | Q10: 41
A11: HK112-017 | B11: 112 | C11: 112 | D11: 民生創新學院 | E11: 餐旅系 | F11: 黃汶達 | H11: 產學合作研究計畫 | I11: 日月千禧酒店股份有限公司 | J11: 企業學院攜手培育計畫 | K11: 100000 | L11: 100000 | M11: 112/08/01 | N11: 113/07/31 | O11: F-企業 | P11: B4,B5 | Q11: 無
A12: HK112-023 | B12: 112 | C12: 112 | D12: 民生創新學院 | E12: 餐旅系 | F12: 吳胤瑱 | H12: 產學合作研究計畫 | I12: 管仲管理顧問股份有限公司 | J12: 部落特色小吃開發與培訓課程 | K12: 120000 | L12: 120000 | M12: 112/08/01 | N12: 112/11/30 | O12: F-企業 | P12: A4,B1 | Q12: 8
A13: HK112-024 | B13: 112 | C13: 112 | D13: 民生創新學院 | E13: 餐旅系 | F13: 許凱敦 | H13: 產學合作研究計畫 | I13: 頂粵吉品股份有限公司 | J13: 企業學院攜手培育計畫 | K13: 100000 | L13: 100000 | M13: 112/08/01 | N13: 113/07/31 | O13: F-企業 | P13: B4,B5 | Q13: 無
A14: HK112-027 | B14: 112 | C14: 112 | D14: 民生創新學院 | E14: 餐旅系 | F14: 莊文隆 | H14: 產學合作研究計畫 | I14: 王品餐飲股份有限公司 | J14: 企業學院攜手培育計畫 | K14: 100000 | L14: 100000 | M14: 112/09/01 | N14: 113/07/31 | O14: F-企業 | P14: A5,B1 | Q14: 無
A15: HK112-038 | B15: 112 | C15: 112 | D15: 民生創新學院 | E15: 餐旅系 | F15: 鄭宇眞 | H15: 產學合作研究計畫 | I15: 永盛顧問股份有限公司-星野餐飲集團 | J15: 企業學院攜手培育計畫 | K15: 100000 | L15: 100000 | M15: 112/08/01 | N15: 113/07/31 | O15: F-企業 | P15: B4,B5 | Q15: 無
A16: HK112-041 | B16: 112 | C16: 112 | D16: 民生創新學院 | E16: 餐旅系 | F16: 許素鈴 | H16: 產學合作研究計畫 | I16: 予躍視覺有限公司 | J16: 2023第二屆家樂福IN LOVE CAFÉ全國咖啡大賽-中區初賽 | K16: 80000 | L16: 80000 | M16: 112/09/10 | N16: 112/12/10 | O16: F-企業 | P16: A4 | Q16: 60
A17: HK112-044 | B17: 112 | C17: 112 | D17: 民生創新學院 | E17: 餐旅系 | F17: 王志榮 | G17: 吳松濂 林幸慧 李芳 | H17: 產學合作研究計畫 | I17: 浮世三千有限公司 | J17: 時尚婚宴藝術設計與應用 | K17: 300000 | L17: 300000 | M17: 112/09/21 | N17: 112/12/31 | O17: F-企業 | P17: A4 | Q17: 20
A18: HK112-046 | B18: 112 | C18: 112 | D18: 民生創新學院 | E18: 餐旅系 | F18: 王志榮 | H18: 產學合作研究計畫 | I18: 津洲文化工作室 | J18: 「津津有味」特色商品研發計畫 | K18: 60000 | L18: 60000 | M18: 112/09/01 | N18: 112/12/31 | O18: F-企業 | P18: A4 | Q18: 10
A19: HK112-047 | B19: 112 | C19: 112 | D19: 民生創新學院 | E19: 餐旅系 | F19: 林幸慧 | H19: 產學合作研究計畫 | I19: 伊芙行銷有限公司 | J19: EcceAsia歐洲特級初榨橄欖油品推廣暨廚藝競賽 | K19: 137400 | L19: 137400 | M19: 112/09/01 | N19: 113/07/31 | O19: F-企業 | P19: A4,B1 | Q19: 無
A20: HK112-060 | B20: 112 | C20: 112 | D20: 民生創新學院 | E20: 餐旅系 | F20: 黃汶達 | H20: 產學合作研究計畫 | I20: 京丞資源國際有限公司 | J20: 推動在地化綠色飲食特色計畫 | K20: 90000 | L20: 90000 | M20: 112/10/01 | N20: 112/12/31 | O20: F-企業 | P20: A4,B6 | Q20: 無
A21: HK112-063 | B21: 112 | C21: 112 | D21: 民生創新學院 | E21: 餐旅系 | F21: 吳胤瑱 | H21: 產學合作研究計畫 | I21: 香港商世基顧問有限公司 | J21: 美國馬鈴薯廚藝課程 | K21: 100000 | L21: 100000 | M21: 112/09/01 | N21: 113/03/31 | O21: F-企業 | P21: A4,B1 | Q21: 43
A22: HK112-066 | B22: 112 | C22: 112 | D22: 民生創新學院 | E22: 餐旅系 | F22: 沈盈貝 | H22: 產學合作研究計畫 | I22: 暖窩舒食有限公司 | J22: 咖啡師Barista產業人才培育訓練 | K22: 200000 | L22: 200000 | M22: 112/08/01 | N22: 112/12/31 | O22: F-企業 | P22: B5 | Q22: 10
A23: HK112-070 | B23: 112 | C23: 112 | D23: 民生創新學院 | E23: 餐旅系 | F23: 曾楷翔 | H23: 產學合作研究計畫 | I23: 東港豐水產企業社 | J23: 日式丼飯專門店商品研發計畫 | K23: 80000 | L23: 80000 | M23: 112/10/15 | N23: 113/01/31 | O23: F-企業 | P23: A5,B6 | Q23: 無
A24: HK112-078 | B24: 112 | C24: 112 | D24: 民生創新學院 | E24: 餐旅系 | F24: 沈盈貝 | H24: 產學合作研究計畫 | I24: 中華研究發展服務有限公司 | J24: ATHE國際顧客服務管理師證照培育計畫 | K24: 70000 | L24: 70000 | M24: 112/08/01 | N24: 112/12/31 | O24: F-企業 | P24: B5 | Q24: 10
A25: HK112-079 | B25: 112 | C25: 112 | D25: 民生創新學院 | E25: 餐旅系 | F25: 鄭錦慶 | H25: 產學合作研究計畫 | I25: 蛋六工作室 | J25: 產業發展加值輔導計畫 | K25: 54990 | L25: 54990 | M25: 112/10/15 | N25: 112/12/31 | O25: F-企業 | P25: A4,B5 | Q25: 無
A26: HK112-081 | B26: 112 | C26: 112 | D26: 民生創新學院 | E26: 餐旅系 | F26: 沈盈貝 | H26: 產學合作研究計畫 | I26: 中華研究發展服務有限公司 | J26: IOH國際調酒師證照培育計畫 | K26: 30000 | L26: 30000 | M26: 112/08/01 | N26: 112/12/31 | O26: F-企業 | P26: B5 | Q26: 6
A27: HK112-084 | B27: 112 | C27: 112 | D27: 民生創新學院 | E27: 餐旅系 | F27: 林幸慧 | G27: 吳松濂 | H27: 產學合作研究計畫 | I27: 台中市龍井區農會 | J27: 觀光餐旅業人才加值培訓計畫 | K27: 138646 | L27: 138646 | M27: 112/10/16 | N27: 112/12/31 | O27: H-其他 | P27: A4,A5,B1,B5 | Q27: 無
A28: HK112-088 | B28: 112 | C28: 112 | D28: 民生創新學院 | E28: 餐旅系 | F28: 黃汶達 | H28: 產學合作研究計畫 | I28: 台中市龍井區農會 | J28: 烘培糕餅業人才加值培育計畫 | K28: 100000 | L28: 100000 | M28: 112/10/16 | N28: 112/12/31 | O28: H-其他 | P28: A4,B6 | Q28: 無
A29: HK112-090 | B29: 112 | C29: 112 | D29: 民生創新學院 | E29: 餐旅系 | F29: 李芳 | H29: 產學合作研究計畫 | I29: 麗緻餐旅集團/亞都麗緻大飯店/亞緻餐飲/麗緻管理顧問 | J29: 企業學院攜手培育計畫 | K29: 100000 | L29: 100000 | M29: 112/10/01 | N29: 113/09/30 | O29: F-企業 | P29: A5,B6 | Q29: 無
A30: HK112-094 | B30: 112 | C30: 112 | D30: 民生創新學院 | E30: 餐旅系 | F30: 吳松濂 | H30: 產學合作研究計畫 | I30: 瓦城泰統股份有限公司 | J30: 企業學院攜手培育計畫 | K30: 100000 | L30: 100000 | M30: 112/08/01 | N30: 113/07/31 | O30: F-企業 | P30: B4,B5, | Q30: 無
A31: HK112-095 | B31: 112 | C31: 112 | D31: 民生創新學院 | E31: 餐旅系 | F31: 鄭錦慶 | H31: 產學合作研究計畫 | I31: 鼎泰豐小吃店股份有限公司 | J31: 企業學院攜手培育計畫 | K31: 100000 | L31: 100000 | M31: 112/09/01 | N31: 113/08/31 | O31: F-企業 | P31: B4,B5, | Q31: 無
A34: 承辦人核章: 單位主管核章: 院長核章:

Sheet 幼保系
A1: 計畫編號 | B1: 年度 | C1: 學年度 | D1: 學院 | E1: 系科別 | F1: 主持人 | G1: 共(協)同主持人 | H1: 類別 | I1: 委託單位 | J1: 計畫名稱 | K1: 廠商 補助款 | L1: 總經費 | M1: 開始日期 | N1: 結束日期 | O1: F-企業 H-其他 | P1: 計畫 性質 | Q1: 預計培育人數 | R1: 實際培育人數
A2: HK111-134 | B2: 112 | C2: 111 | D2: 民生創新學院 | E2: 幼保系 | F2: 何函儒 | G2: 邱華慧 | H2: 產學合作研究計畫 | I2: 臺中市私立大都會幼兒園 | J2: 親子情緒共讀 | K2: 66000 | L2: 66000 | M2: 112/04/01 | N2: 112/09/30 | O2: H-其他 | P2: A1,B5 | Q2: 50
A3: HK111-173 | B3: 112 | C3: 111 | D3: 民生創新學院 | E3: 幼保系 | F3: 邱華慧 | H3: 產學合作研究計畫 | I3: 臺中市私立大都會福和幼兒園 | J3: 112年教保人才培育計畫-Leader福和校 | K3: 409626 | L3: 409626 | M3: 112/07/10 | N3: 112/09/23 | O3: H-其他 | P3: B5 | Q3: 6
A4: HK111-174 | B4: 112 | C4: 111 | D4: 民生創新學院 | E4: 幼保系 | F4: 張家卉 | H4: 產學合作研究計畫 | I4: 典通股份有限公司 | J4: 112年度臺北市兒童及少年生活狀況調查 | K4: 100000 | L4: 100000 | M4: 112/05/01 | N4: 113/04/30 | O4: F-企業 | P4: A5 | Q4: 無
A5: HK111-176 | B5: 112 | C5: 111 | D5: 民生創新學院 | E5: 幼保系 | F5: 邱華慧 | H5: 產學合作研究計畫 | I5: 臺中市私立大都會逢甲幼兒園 | J5: 112年教保人才培育計畫-Leader逢甲校 | K5: 169029 | L5: 169029 | M5: 112/07/28 | N5: 112/09/23 | O5: H-其他 | P5: B5 | Q5: 3
A6: HK111-177 | B6: 112 | C6: 111 | D6: 民生創新學院 | E6: 幼保系 | F6: 邱華慧 | H6: 產學合作研究計畫 | I6: 臺中市私立大都會探索幼兒園 | J6: 112年教保人才培育計畫-Leader探索校 | K6: 281713 | L6: 281713 | M6: 112/07/28 | N6: 112/09/23 | O6: H-其他 | P6: B5 | Q6: 5
A7: HK112-005 | B7: 112 | C7: 112 | D7: 民生創新學院 | E7: 幼保系 | F7: 黃齡瑩 | H7: 產學合作研究計畫 | I7: 彰化縣私立經典幼兒園 | J7: 人才培育產學合作計畫 | K7: 217500 | L7: 217500 | M7: 112/08/01 | N7: 113/06/30 | O7: H-其他 | P7: A8,B1 | Q7: 無
A8: HK112-050 | B8: 112 | C8: 112 | D8: 民生創新學院 | E8: 幼保系 | F8: 許紋華 | H8: 產學合作研究計畫 | I8: 財團法人台中市私立弘毓社會福利基金會 | J8: 特殊兒童暨長輩突破自我勇敢追夢培訓 | K8: 49500 | L8: 49500 | M8: 112/08/01 | N8: 112/12/31 | O8: F-企業 | P8: A5,B1 | Q8: 80
A9: HK112-074 | B9: 112 | C9: 112 | D9: 民生創新學院 | E9: 幼保系 | F9: 許紋華 | H9: 產學合作研究計畫 | I9: 財團法人台灣兒童暨家庭扶助基金會附設台中市私立家扶發展學園 | J9: 學前特殊教育教保人才培訓 | K9: 410000 | L9: 410000 | M9: 112/11/13 | N9: 113/10/31 | O9: H-其他 | P9: A9,B1 | Q9: 3
A12: 承辦人核章: 單位主管核章: 院長核章:

Sheet 文創系
A1: 計畫編號 | B1: 年度 | C1: 學年度 | D1: 學院 | E1: 系科別 | F1: 主持人 | G1: 共(協)同主持人 | H1: 類別 | I1: 委託單位 | J1: 計畫名稱 | K1: 廠商 補助款 | L1: 總經費 | M1: 開始日期 | N1: 結束日期 | O1: F-企業 H-其他 | P1: 計畫性質 | Q1: 預計培育人數 | R1: 實際培育人數
A2: HK111-184 | B2: 112 | C2: 111 | D2: 民生創新學院 | E2: 文創系 | F2: 賴可謙 | H2: 產學合作研究計畫 | I2: 臺中市農業創生協會 | J2: 農村市集活動視覺規劃設計 | K2: 100000 | L2: 100000 | M2: 112/07/03 | N2: 113/01/31 | O2: H-其他 | P2: A4,B1 | Q2: 3
A3: HK111-121 | B3: 112 | C3: 111 | D3: 民生創新學院 | E3: 文創系 | F3: 涂卉 | H3: 產學合作研究計畫 | I3: 財團法人台中市私立康善社會福利慈善事業基金會 | J3: 112年度康善基金會早日康復補給站10週年活動與視覺設計案 | K3: 100000 | L3: 100000 | M3: 112/03/15 | N3: 112/12/31 | O3: H-其他 | P3: A4 | Q3: 4
A4: HK112-072 | B4: 112 | C4: 112 | D4: 民生創新學院 | E4: 文創系 | F4: 涂卉 | H4: 產學合作研究計畫 | I4: 臺中市石岡區農會 | J4: 臺中市石岡區柑橘水梨加工加值開發包裝設計案 | K4: 60000 | L4: 60000 | M4: 112/11/01 | N4: 112/12/31 | O4: H-其他 | P4: A4 | Q4: 36
A5: HK112-102 | B5: 112 | C5: 112 | D5: 民生創新學院 | E5: 文創系 | F5: 涂卉 | H5: 產學合作研究計畫 | I5: 臺中市石岡區農會 | J5: 臺中市石岡區柑橘水梨加工加值開發成果發表會活動與設計 | K5: 70000 | L5: 70000 | M5: 112/12/01 | N5: 113/01/31 | O5: H-其他 | P5: A4 | Q5: 36
A6: HK111-148 | B6: 112 | C6: 111 | D6: 民生創新學院 | E6: 文創系 | F6: 林敬榮 | G6: 胡庭禎 | H6: 產學合作研究計畫 | I6: 台灣職業技術發展協會 | J6: 以價值共創觀點發展技師學院課程機制 | K6: 800000 | L6: 800000 | M6: 112/05/01 | N6: 113/04/30 | O6: H-其他 | P6: A5,B1 | Q6: 無
A7: HK112-016 | B7: 112 | C7: 112 | D7: 民生創新學院 | E7: 文創系 | F7: 賴可謙 | H7: 產學合作研究計畫 | I7: 後驛冊店 | J7: 創意書市集活動規劃與實作 | K7: 375000 | L7: 375000 | M7: 112/08/01 | N7: 113/02/28 | O7: F-企業 | P7: A4,B1 | Q7: 無
A8: HK112-042 | B8: 112 | C8: 112 | D8: 民生創新學院 | E8: 文創系 | F8: 田其虎 | H8: 產學合作研究計畫 | I8: Evolution Hospitality Institute | J8: Expanding EHI Taiwanese market consulting project | K8: 380000 | L8: 380000 | M8: 112/10/01 | N8: 113/09/30 | O8: F-企業 | P8: A5 | Q8: 無
A9: HK112-128 | B9: 112 | C9: 112 | D9: 民生創新學院 | E9: 文創系 | F9: 賴可謙 | H9: 產學合作研究計畫 | I9: 行草悟道股份有限公司 | J9: 音樂市集活動展示實作與氛圍佈置 | K9: 147000 | L9: 147000 | M9: 112/12/16 | N9: 113/06/16 | O9: F-企業 | P9: A4 | Q9: 無
A11: 承辦人核章: 單位主管核章: 院長核章:

Sheet 運休系
A1: 計畫編號 | B1: 年度 | C1: 學年度 | D1: 學院 | E1: 系科別 | F1: 主持人 | G1: 共(協)同主持人 | H1: 類別 | I1: 委託單位 | J1: 計畫名稱 | K1: 廠商 補助款 | L1: 總經費 | M1: 開始日期 | N1: 結束日期 | O1: F-企業 H-其他 | P1: 計畫性質 | Q1: 預計培育人數 | R1: 實際培育人數
A2: HK111-100 | B2: 112 | C2: 111 | D2: 民生創新學院 | E2: 運休系 | F2: 劉進枰 | G2: 張嚴仁 蘇信坤 | H2: 產學合作研究計畫 | I2: 臺中市私立精學門文理短期補習班 | J2: 2023年精學門兒童冬季運動育樂營 | K2: 51000 | L2: 51000 | M2: 112/02/01 | N2: 112/03/18 | O2: H-其他 | P2: A4,A5 | Q2: 2
A3: HK111-163 | B3: 112 | C3: 111 | D3: 民生創新學院 | E3: 運休系 | F3: 張嚴仁 | G3: 蘇信坤 | H3: 產學合作研究計畫 | I3: 雅適健康事業有限公司 | J3: 銀髮運動師資培訓與銀髮健身推廣計畫 | K3: 200000 | L3: 200000 | M3: 112/04/01 | N3: 113/12/31 | O3: F-企業 | P3: B2,B5 | Q3: 16
A4: HK112-002 | B4: 112 | C4: 112 | D4: 民生創新學院 | E4: 運休系 | F4: 劉進枰 | G4: 張嚴仁 林千源 | H4: 產學合作研究計畫 | I4: 臺中市私立精學門文理短期補習班 | J4: 2023年精學門兒童夏季運動育樂營 | K4: 71000 | L4: 71000 | M4: 112/08/05 | N4: 112/10/01 | O4: H-其他 | P4: A4,B1 | Q4: 3
A5: HK112-121 | B5: 112 | C5: 112 | D5: 民生創新學院 | E5: 運休系 | F5: 王忠茂 | G5: 林千源 | H5: 產學合作研究計畫 | I5: 光田醫療社團法人光田綜合醫院 | J5: 光田綜合醫院運動大會健康促進與專業服務計畫 | K5: 50000 | L5: 50000 | M5: 112/12/01 | N5: 113/04/30 | O5: H-其他 | P5: A4,A5 | Q5: 15
A8: 承辦人核章: 單位主管核章: 院長核章:
